BEGIN:VCALENDAR
VERSION:2.0
PRODID:-//OptikNow - ECPv6.2.2//NONSGML v1.0//EN
CALSCALE:GREGORIAN
METHOD:PUBLISH
X-WR-CALNAME:OptikNow
X-ORIGINAL-URL:https://www.optiknow.ca
X-WR-CALDESC:Events for OptikNow
REFRESH-INTERVAL;VALUE=DURATION:PT1H
X-Robots-Tag:noindex
X-PUBLISHED-TTL:PT1H
BEGIN:VTIMEZONE
TZID:America/Toronto
BEGIN:DAYLIGHT
TZOFFSETFROM:-0500
TZOFFSETTO:-0400
TZNAME:EDT
DTSTART:20210314T070000
END:DAYLIGHT
BEGIN:STANDARD
TZOFFSETFROM:-0400
TZOFFSETTO:-0500
TZNAME:EST
DTSTART:20211107T060000
END:STANDARD
END:VTIMEZONE
BEGIN:VEVENT
DTSTART;TZID=America/Toronto:20210915T123000
DTEND;TZID=America/Toronto:20210915T130000
DTSTAMP:20260420T134148
CREATED:20210908T201935Z
LAST-MODIFIED:20210908T201935Z
UID:92615-1631709000-1631710800@www.optiknow.ca
SUMMARY:EssilorLuxottica 360
DESCRIPTION:Powering your Practice. Empowering You. \nIntroducing EssilorLuxottica 360™\, a new program powered by Essilor and Luxottica that provides 360 degrees of support to help drive traffic\, enhance patient experience\, and drive value and profitability to your practice. \nThe event will also be available to watch later once registered.
URL:https://www.optiknow.ca/event/essilorluxottica-360/
LOCATION:Alberta
ATTACH;FMTTYPE=image/jpeg:https://www.optiknow.ca/wp-content/uploads/2021/09/EssilorLux-360-EN-event-400-X-128px.jpg
END:VEVENT
END:VCALENDAR