BEGIN:VCALENDAR
VERSION:2.0
PRODID:-//OptikNow - ECPv6.2.2//NONSGML v1.0//EN
CALSCALE:GREGORIAN
METHOD:PUBLISH
X-WR-CALNAME:OptikNow
X-ORIGINAL-URL:https://www.optiknow.ca
X-WR-CALDESC:Events for OptikNow
REFRESH-INTERVAL;VALUE=DURATION:PT1H
X-Robots-Tag:noindex
X-PUBLISHED-TTL:PT1H
BEGIN:VTIMEZONE
TZID:America/Toronto
BEGIN:DAYLIGHT
TZOFFSETFROM:-0500
TZOFFSETTO:-0400
TZNAME:EDT
DTSTART:20210314T070000
END:DAYLIGHT
BEGIN:STANDARD
TZOFFSETFROM:-0400
TZOFFSETTO:-0500
TZNAME:EST
DTSTART:20211107T060000
END:STANDARD
END:VTIMEZONE
BEGIN:VEVENT
DTSTART;VALUE=DATE:20210922
DTEND;VALUE=DATE:20210926
DTSTAMP:20260420T134150
CREATED:20200423T185739Z
LAST-MODIFIED:20200423T185739Z
UID:86235-1632268800-1632614399@www.optiknow.ca
SUMMARY:Vision Expo West 2021
DESCRIPTION:
URL:https://www.optiknow.ca/event/vision-expo-west-2021/
LOCATION:Sands Expo & Convention Center\, Las Vegas\, Nevada\, USA
ATTACH;FMTTYPE=image/jpeg:https://www.optiknow.ca/wp-content/uploads/2020/04/Vision-Expo-logo-for-events.jpg
END:VEVENT
BEGIN:VEVENT
DTSTART;VALUE=DATE:20210924
DTEND;VALUE=DATE:20210928
DTSTAMP:20260420T134150
CREATED:20210420T183925Z
LAST-MODIFIED:20210420T184054Z
UID:90981-1632441600-1632787199@www.optiknow.ca
SUMMARY:SILMO Paris 2021
DESCRIPTION:
URL:https://www.optiknow.ca/event/silmo-paris-2021/
LOCATION:Parc des Expositions de Paris Nord Villepinte\, Hall 5A-6\, 95420 Villepinte\, France
ATTACH;FMTTYPE=image/jpeg:https://www.optiknow.ca/wp-content/uploads/2017/12/SILMO-Paris-EN-event-1.jpg
END:VEVENT
END:VCALENDAR