BEGIN:VCALENDAR
VERSION:2.0
PRODID:-//OptikNow - ECPv6.2.2//NONSGML v1.0//EN
CALSCALE:GREGORIAN
METHOD:PUBLISH
X-WR-CALNAME:OptikNow
X-ORIGINAL-URL:https://www.optiknow.ca
X-WR-CALDESC:Events for OptikNow
REFRESH-INTERVAL;VALUE=DURATION:PT1H
X-Robots-Tag:noindex
X-PUBLISHED-TTL:PT1H
BEGIN:VTIMEZONE
TZID:America/Toronto
BEGIN:DAYLIGHT
TZOFFSETFROM:-0500
TZOFFSETTO:-0400
TZNAME:EDT
DTSTART:20210314T070000
END:DAYLIGHT
BEGIN:STANDARD
TZOFFSETFROM:-0400
TZOFFSETTO:-0500
TZNAME:EST
DTSTART:20211107T060000
END:STANDARD
END:VTIMEZONE
BEGIN:VEVENT
DTSTART;TZID=America/Toronto:20211003T123000
DTEND;TZID=America/Toronto:20211003T140000
DTSTAMP:20260420T120111
CREATED:20210902T200808Z
LAST-MODIFIED:20210907T130218Z
UID:92532-1633264200-1633269600@www.optiknow.ca
SUMMARY:Webinar: All You Need to Know About Starting an Optometry Practice
DESCRIPTION:New Webinar Series \nSpeakers: Drs. Bob Steinmetz & Eric Baas\, Optometrists \nEvent Sponsored by Essilor Canada \nTo Register  \n 
URL:https://www.optiknow.ca/event/all-you-need-to-know-about-starting-an-optometry-practice/
LOCATION:Alberta
ATTACH;FMTTYPE=image/jpeg:https://www.optiknow.ca/wp-content/uploads/2021/09/OSI_logo-EN-400px.jpg
END:VEVENT
END:VCALENDAR