BEGIN:VCALENDAR
VERSION:2.0
PRODID:-//OptikNow - ECPv6.2.2//NONSGML v1.0//EN
CALSCALE:GREGORIAN
METHOD:PUBLISH
X-ORIGINAL-URL:https://www.optiknow.ca
X-WR-CALDESC:Events for OptikNow
REFRESH-INTERVAL;VALUE=DURATION:PT1H
X-Robots-Tag:noindex
X-PUBLISHED-TTL:PT1H
BEGIN:VTIMEZONE
TZID:America/Toronto
BEGIN:DAYLIGHT
TZOFFSETFROM:-0500
TZOFFSETTO:-0400
TZNAME:EDT
DTSTART:20210314T070000
END:DAYLIGHT
BEGIN:STANDARD
TZOFFSETFROM:-0400
TZOFFSETTO:-0500
TZNAME:EST
DTSTART:20211107T060000
END:STANDARD
END:VTIMEZONE
BEGIN:VEVENT
DTSTART;TZID=America/Toronto:20211021T200000
DTEND;TZID=America/Toronto:20211021T210000
DTSTAMP:20260420T120223
CREATED:20210531T141709Z
LAST-MODIFIED:20210531T141709Z
UID:91463-1634846400-1634850000@www.optiknow.ca
SUMMARY:Holiday E-commerce Marketing Strategies
DESCRIPTION:2021 Webinar Series \n\n\nIn partnership with Eyecare Industry Leaders\, EyeCommerce is happy to announce the launch of the ‘Focusing on your E-commerce Strategy’ FREE webinar series. The series of four webinars will showcase optometrists\, opticians and industry experts sharing their e-commerce strategies and provide practical tips to ensure your success.
URL:https://www.optiknow.ca/event/holiday-e-commerce-marketing-strategies/
LOCATION:Alberta
ATTACH;FMTTYPE=image/jpeg:https://www.optiknow.ca/wp-content/uploads/2021/05/Eye-Commerce-logo-400-X170px.jpg
END:VEVENT
END:VCALENDAR