BEGIN:VCALENDAR
VERSION:2.0
PRODID:-//OptikNow - ECPv6.2.2//NONSGML v1.0//EN
CALSCALE:GREGORIAN
METHOD:PUBLISH
X-WR-CALNAME:OptikNow
X-ORIGINAL-URL:https://www.optiknow.ca
X-WR-CALDESC:Events for OptikNow
REFRESH-INTERVAL;VALUE=DURATION:PT1H
X-Robots-Tag:noindex
X-PUBLISHED-TTL:PT1H
BEGIN:VTIMEZONE
TZID:America/Toronto
BEGIN:DAYLIGHT
TZOFFSETFROM:-0500
TZOFFSETTO:-0400
TZNAME:EDT
DTSTART:20210314T070000
END:DAYLIGHT
BEGIN:STANDARD
TZOFFSETFROM:-0400
TZOFFSETTO:-0500
TZNAME:EST
DTSTART:20211107T060000
END:STANDARD
END:VTIMEZONE
BEGIN:VEVENT
DTSTART;TZID=America/Toronto:20211024T095500
DTEND;TZID=America/Toronto:20211024T153000
DTSTAMP:20260420T120113
CREATED:20210824T174818Z
LAST-MODIFIED:20210824T180640Z
UID:92375-1635069300-1635089400@www.optiknow.ca
SUMMARY:Focus 20/21 Education Event (VIRTUAL)
DESCRIPTION:The Vision Institute of Canada is a vision care charity providing clinical services to under-served communities and at-risk patient populations at our clinic\, in long-term care homes and on the street. We are celebrating “40 years of exceptional care for exceptional patients”.  We invite the optometric community to attend the second of our 2021 virtual education fundraising events Sunday\, October 24\, 2021.
URL:https://www.optiknow.ca/event/focus-20-21-education-event-virtual-2/
LOCATION:Alberta
ATTACH;FMTTYPE=image/jpeg:https://www.optiknow.ca/wp-content/uploads/2020/08/Focus-2021-VIC-400-X170px.jpg
END:VEVENT
END:VCALENDAR