BEGIN:VCALENDAR
VERSION:2.0
PRODID:-//OptikNow - ECPv6.2.2//NONSGML v1.0//EN
CALSCALE:GREGORIAN
METHOD:PUBLISH
X-ORIGINAL-URL:https://www.optiknow.ca
X-WR-CALDESC:Events for OptikNow
REFRESH-INTERVAL;VALUE=DURATION:PT1H
X-Robots-Tag:noindex
X-PUBLISHED-TTL:PT1H
BEGIN:VTIMEZONE
TZID:America/Toronto
BEGIN:DAYLIGHT
TZOFFSETFROM:-0500
TZOFFSETTO:-0400
TZNAME:EDT
DTSTART:20220313T070000
END:DAYLIGHT
BEGIN:STANDARD
TZOFFSETFROM:-0400
TZOFFSETTO:-0500
TZNAME:EST
DTSTART:20221106T060000
END:STANDARD
END:VTIMEZONE
BEGIN:VEVENT
DTSTART;VALUE=DATE:20220116
DTEND;VALUE=DATE:20220120
DTSTAMP:20260420T065752
CREATED:20211001T201910Z
LAST-MODIFIED:20220408T151703Z
UID:93058-1642291200-1642636799@www.optiknow.ca
SUMMARY:Transitions Academy 2022
DESCRIPTION:Both the 6th and 7th annual Transitions Innovation Awards finalists will be recognized at Transitions Academy. Industry professionals can earn an invitation to attend Transitions Academy 2022\, by becoming a Transitions Innovation Award finalist. The awards are open to optical industry professionals\, educators\, retailers\, optical laboratories\, managed vision care companies and independent eyecare professionals and practices.
URL:https://www.optiknow.ca/event/transitions-academy-2022/
LOCATION:Alberta
ATTACH;FMTTYPE=image/jpeg:https://www.optiknow.ca/wp-content/uploads/2021/10/Transitions_Academy-event-400px.jpg
END:VEVENT
END:VCALENDAR