BEGIN:VCALENDAR
VERSION:2.0
PRODID:-//OptikNow - ECPv6.2.2//NONSGML v1.0//EN
CALSCALE:GREGORIAN
METHOD:PUBLISH
X-ORIGINAL-URL:https://www.optiknow.ca
X-WR-CALDESC:Events for OptikNow
REFRESH-INTERVAL;VALUE=DURATION:PT1H
X-Robots-Tag:noindex
X-PUBLISHED-TTL:PT1H
BEGIN:VTIMEZONE
TZID:America/Toronto
BEGIN:DAYLIGHT
TZOFFSETFROM:-0500
TZOFFSETTO:-0400
TZNAME:EDT
DTSTART:20220313T070000
END:DAYLIGHT
BEGIN:STANDARD
TZOFFSETFROM:-0400
TZOFFSETTO:-0500
TZNAME:EST
DTSTART:20221106T060000
END:STANDARD
END:VTIMEZONE
BEGIN:VEVENT
DTSTART;VALUE=DATE:20220212
DTEND;VALUE=DATE:20220213
DTSTAMP:20260420T091950
CREATED:20220117T205440Z
LAST-MODIFIED:20220117T205440Z
UID:94147-1644624000-1644710399@www.optiknow.ca
SUMMARY:Myopia Management: Putting It Into Practice
DESCRIPTION:The World Council of Optometry (WCO) and CooperVision came together in 2021 to address the growing concerns around myopia and the need to understand\, detect\, prevent and treat myopia in children. \n  \nJoin this free event and hear from experts in the field of myopia management as they share their insights into standards of care for myopia management and how they incorporate aspects of myopia management\, such as mitigation\, measurement and management\, into their practices. \n  \nFor more information on the speakers presenting at the event please click here.
URL:https://www.optiknow.ca/event/myopia-management-putting-it-into-practice/
LOCATION:Alberta
ATTACH;FMTTYPE=image/jpeg:https://www.optiknow.ca/wp-content/uploads/2022/01/CooperVision-WCO-event-2022.jpg
END:VEVENT
END:VCALENDAR