BEGIN:VCALENDAR
VERSION:2.0
PRODID:-//OptikNow - ECPv6.2.2//NONSGML v1.0//EN
CALSCALE:GREGORIAN
METHOD:PUBLISH
X-ORIGINAL-URL:https://www.optiknow.ca
X-WR-CALDESC:Events for OptikNow
REFRESH-INTERVAL;VALUE=DURATION:PT1H
X-Robots-Tag:noindex
X-PUBLISHED-TTL:PT1H
BEGIN:VTIMEZONE
TZID:America/Toronto
BEGIN:DAYLIGHT
TZOFFSETFROM:-0500
TZOFFSETTO:-0400
TZNAME:EDT
DTSTART:20220313T070000
END:DAYLIGHT
BEGIN:STANDARD
TZOFFSETFROM:-0400
TZOFFSETTO:-0500
TZNAME:EST
DTSTART:20221106T060000
END:STANDARD
END:VTIMEZONE
BEGIN:VEVENT
DTSTART;VALUE=DATE:20220923
DTEND;VALUE=DATE:20220927
DTSTAMP:20260419T145946
CREATED:20220324T161617Z
LAST-MODIFIED:20220408T151300Z
UID:95181-1663891200-1664236799@www.optiknow.ca
SUMMARY:SILMO Paris Optical Fair
DESCRIPTION:SILMO Paris\, Live the experience! This annual trade show takes place at the exhibition Center Paris Nord Villepinte (Paris) \, and welcomes the professional of the optical & eyewear sector (opticians\, optometrists\, ophtalmologists\, manufacturers\,…).
URL:https://www.optiknow.ca/event/silmo-paris-optical-fair/
LOCATION:Center Paris Nord Villepinte\, Paris\, France
CATEGORIES:International Conference
ATTACH;FMTTYPE=image/jpeg:https://www.optiknow.ca/wp-content/uploads/2022/03/HEADER-DESKTOP-UK-V2.jpg
END:VEVENT
BEGIN:VEVENT
DTSTART;VALUE=DATE:20220925
DTEND;VALUE=DATE:20220926
DTSTAMP:20260419T145946
CREATED:20220713T195242Z
LAST-MODIFIED:20220713T195443Z
UID:96806-1664064000-1664150399@www.optiknow.ca
SUMMARY:2022 Fall Virtual Symposium
DESCRIPTION:This year’s Fall Symposium conference will be held virtually\, so be sure to take this opportunity to engage with speakers and colleagues over presentations on engaging topics in Optometry. The conference will be FREE for BCDO members\, and attendees will be able to gain COPE-accredited CE credits. An in-person evening social will also be held on Sunday\, September 24 as part of the Fall Symposium weekend- be sure to mark your calendars!
URL:https://www.optiknow.ca/event/2022-fall-virtual-symposium/
LOCATION:Virtual
CATEGORIES:Virtual Event
ATTACH;FMTTYPE=image/png:https://www.optiknow.ca/wp-content/uploads/2022/07/5.png
ORGANIZER;CN="BC Doctors of Optometry":MAILTO:info@optometrists.bc.ca
END:VEVENT
BEGIN:VEVENT
DTSTART;VALUE=DATE:20220925
DTEND;VALUE=DATE:20220926
DTSTAMP:20260419T145946
CREATED:20220824T143838Z
LAST-MODIFIED:20220824T143838Z
UID:96959-1664064000-1664150399@www.optiknow.ca
SUMMARY:2022 New Grad Bootcamp
DESCRIPTION:New Grad Bootcamp provides recent graduates with a better understanding of optometric profession in British Columbia. The one-day seminar provides practical tools\, information\, and advice to ensure new ODs get the most out of their profession for years to come. This event is geared towards New Grads within their first 3 years of practice after graduation\, but all are welcome to attend!
URL:https://www.optiknow.ca/event/2022-new-grad-bootcamp/
LOCATION:Virtual
CATEGORIES:Virtual Event
ATTACH;FMTTYPE=image/png:https://www.optiknow.ca/wp-content/uploads/2022/07/bc-grad-event.png
ORGANIZER;CN="BC Doctors of Optometry":MAILTO:info@optometrists.bc.ca
END:VEVENT
BEGIN:VEVENT
DTSTART;TZID=America/Toronto:20220925T080000
DTEND;TZID=America/Toronto:20220925T170000
DTSTAMP:20260419T145946
CREATED:20220725T190415Z
LAST-MODIFIED:20220725T190415Z
UID:96964-1664092800-1664125200@www.optiknow.ca
SUMMARY:CONNECT MANITOBA 2022
DESCRIPTION:Making our way over to the prairies\, the Opticians Association of Canada will be hosting an event in Winnipeg on September 25\, 2022 at the wonderful Grant Park Landmark Cinema. Running from 8:00 AM to 5:00 PM we hope to see you there from a full day of learning.
URL:https://www.optiknow.ca/event/connect-manitoba-2022/
LOCATION:Landmark Cinema\, Grant Park\,\, Unit 127 - 1120 Grant Ave\, Winnipeg\, Manitoba\, R3M 2A6\, Canada
CATEGORIES:Canada
ATTACH;FMTTYPE=image/gif:https://www.optiknow.ca/wp-content/uploads/2022/07/ConnectManitoba_Banner_750X188.gif
END:VEVENT
END:VCALENDAR