BEGIN:VCALENDAR
VERSION:2.0
PRODID:-//OptikNow - ECPv6.2.2//NONSGML v1.0//EN
CALSCALE:GREGORIAN
METHOD:PUBLISH
X-WR-CALNAME:OptikNow
X-ORIGINAL-URL:https://www.optiknow.ca
X-WR-CALDESC:Events for OptikNow
REFRESH-INTERVAL;VALUE=DURATION:PT1H
X-Robots-Tag:noindex
X-PUBLISHED-TTL:PT1H
BEGIN:VTIMEZONE
TZID:America/Toronto
BEGIN:DAYLIGHT
TZOFFSETFROM:-0500
TZOFFSETTO:-0400
TZNAME:EDT
DTSTART:20260308T070000
END:DAYLIGHT
BEGIN:STANDARD
TZOFFSETFROM:-0400
TZOFFSETTO:-0500
TZNAME:EST
DTSTART:20261101T060000
END:STANDARD
END:VTIMEZONE
BEGIN:VEVENT
DTSTART;VALUE=DATE:20260424
DTEND;VALUE=DATE:20260426
DTSTAMP:20260424T014821
CREATED:20260225T161009Z
LAST-MODIFIED:20260225T161009Z
UID:116267-1776988800-1777161599@www.optiknow.ca
SUMMARY:Saskatchewan Association of Optometrists 2026 Conference
DESCRIPTION:What does registration at the 2026 Conference include? \n\n\n\nAttendance to all Continuing Education presentations at the 2026 Conference.\nAttendance for all SAO Virtual Continuing Education sessions in 2026 (SAO Members only).\nBreakfasts and lunches during the 2026 Conference.\nAttendance to the Member Event on Friday\, April 24.
URL:https://www.optiknow.ca/event/saskatchewan-association-of-optometrists-2026-conference/
LOCATION:Delta Regina\, 1919 Saskatchewan Drive\, Regina\, Saskatchewan\, Canada
CATEGORIES:Canada
ATTACH;FMTTYPE=image/jpeg:https://www.optiknow.ca/wp-content/uploads/2026/02/2026-Conference-Registration.jpg
ORGANIZER;CN="Saskatchewan Association of Optometrists":MAILTO:admin@saosk.ca
END:VEVENT
END:VCALENDAR