BEGIN:VCALENDAR
VERSION:2.0
PRODID:-//OptikNow - ECPv6.2.2//NONSGML v1.0//EN
CALSCALE:GREGORIAN
METHOD:PUBLISH
X-WR-CALNAME:OptikNow
X-ORIGINAL-URL:https://www.optiknow.ca
X-WR-CALDESC:Events for OptikNow
REFRESH-INTERVAL;VALUE=DURATION:PT1H
X-Robots-Tag:noindex
X-PUBLISHED-TTL:PT1H
BEGIN:VTIMEZONE
TZID:America/Toronto
BEGIN:DAYLIGHT
TZOFFSETFROM:-0500
TZOFFSETTO:-0400
TZNAME:EDT
DTSTART:20240310T070000
END:DAYLIGHT
BEGIN:STANDARD
TZOFFSETFROM:-0400
TZOFFSETTO:-0500
TZNAME:EST
DTSTART:20241103T060000
END:STANDARD
END:VTIMEZONE
BEGIN:VEVENT
DTSTART;VALUE=DATE:20240405
DTEND;VALUE=DATE:20240408
DTSTAMP:20260423T113920
CREATED:20240124T163746Z
LAST-MODIFIED:20240124T163746Z
UID:104983-1712275200-1712534399@www.optiknow.ca
SUMMARY:2024 Annual Conference and OPTOFAIR
DESCRIPTION:BC Doctors of Optometry brings you three days of cutting-edge insight and inspirational education in our 2024 Annual Conference & OPTOFAIR. Join us for our continuing education\, networking and professional development event for doctors of optometry and optometric staff. The conference features a full roster of engaging and renowned speakers from across the continent for both doctors of optometry
URL:https://www.optiknow.ca/event/2024-annual-conference-and-optofair/
LOCATION:Hyatt Regency Vancouver\, 655 Burrard Street\, Vancouver\, BC\, V6C 2R7\, Canada
CATEGORIES:Canada
ATTACH;FMTTYPE=image/png:https://www.optiknow.ca/wp-content/uploads/2024/01/BCDO-logo.png
ORGANIZER;CN="BC Doctors of Optometry":MAILTO:info@optometrists.bc.ca
END:VEVENT
BEGIN:VEVENT
DTSTART;TZID=America/Toronto:20240407T080000
DTEND;TZID=America/Toronto:20240407T170000
DTSTAMP:20260423T113920
CREATED:20240202T184831Z
LAST-MODIFIED:20240202T184831Z
UID:105080-1712476800-1712509200@www.optiknow.ca
SUMMARY:CONNECT NEW BRUNSWICK 2024
DESCRIPTION:Join us for Connect New Brunswick\, a full day of in-person continuing education tailored to bring together Opticians from across New Brunswick. Enjoy a day of learning that not only help you meet your yearly CE requirements but also promises a fantastic time. All announced speakers will be present\, ensuring a dynamic and engaging live experience for everyone.
URL:https://www.optiknow.ca/event/connect-new-brunswick-2024/
LOCATION:Delta Hotels by Marriott Beausejour\, 750 Main Street\, Moncton\, New Brunswick\, E1C 1E6\, Canada
CATEGORIES:Canada
ATTACH;FMTTYPE=image/jpeg:https://www.optiknow.ca/wp-content/uploads/2024/02/Header_EN.jpg
END:VEVENT
END:VCALENDAR