BEGIN:VCALENDAR
VERSION:2.0
PRODID:-//OptikNow - ECPv6.2.2//NONSGML v1.0//EN
CALSCALE:GREGORIAN
METHOD:PUBLISH
X-ORIGINAL-URL:https://www.optiknow.ca
X-WR-CALDESC:Events for OptikNow
REFRESH-INTERVAL;VALUE=DURATION:PT1H
X-Robots-Tag:noindex
X-PUBLISHED-TTL:PT1H
BEGIN:VTIMEZONE
TZID:America/Toronto
BEGIN:DAYLIGHT
TZOFFSETFROM:-0500
TZOFFSETTO:-0400
TZNAME:EDT
DTSTART:20240310T070000
END:DAYLIGHT
BEGIN:STANDARD
TZOFFSETFROM:-0400
TZOFFSETTO:-0500
TZNAME:EST
DTSTART:20241103T060000
END:STANDARD
END:VTIMEZONE
BEGIN:VEVENT
DTSTART;VALUE=DATE:20240709
DTEND;VALUE=DATE:20240710
DTSTAMP:20260423T061627
CREATED:20240704T140443Z
LAST-MODIFIED:20240704T140443Z
UID:106971-1720483200-1720569599@www.optiknow.ca
SUMMARY:Advancements in IOL Technology (Yaletown)
DESCRIPTION:Understanding Light Adjustment & Technologies Available In 2024. In collaboration with BCDO\, Dr. Heather O’Donnell\, Dr. Christopher Pollock\, and Dr. Stephanie Wise will be presenting on Advancements in IOL Technology on two separate days this July. CE Credits: 2 credits (COPE accredited: 91698-TD) FREE for BCDO Members. Register here.
URL:https://www.optiknow.ca/event/advancements-in-iol-technology-yaletown/
LOCATION:Brix and Mortar\, 1137 Hamilton St\, Vancouver\, British Columbia\, Canada
CATEGORIES:Canada
ATTACH;FMTTYPE=image/png:https://www.optiknow.ca/wp-content/uploads/2024/07/jjjjjjjjj.png
ORGANIZER;CN="BC Doctors of Optometry":MAILTO:info@optometrists.bc.ca
END:VEVENT
END:VCALENDAR