BEGIN:VCALENDAR
VERSION:2.0
PRODID:-//OptikNow - ECPv6.2.2//NONSGML v1.0//EN
CALSCALE:GREGORIAN
METHOD:PUBLISH
X-WR-CALNAME:OptikNow
X-ORIGINAL-URL:https://www.optiknow.ca
X-WR-CALDESC:Events for OptikNow
REFRESH-INTERVAL;VALUE=DURATION:PT1H
X-Robots-Tag:noindex
X-PUBLISHED-TTL:PT1H
BEGIN:VTIMEZONE
TZID:America/Toronto
BEGIN:DAYLIGHT
TZOFFSETFROM:-0500
TZOFFSETTO:-0400
TZNAME:EDT
DTSTART:20220313T070000
END:DAYLIGHT
BEGIN:STANDARD
TZOFFSETFROM:-0400
TZOFFSETTO:-0500
TZNAME:EST
DTSTART:20221106T060000
END:STANDARD
END:VTIMEZONE
BEGIN:VEVENT
DTSTART;VALUE=DATE:20220410
DTEND;VALUE=DATE:20220411
DTSTAMP:20260424T135617
CREATED:20220324T160430Z
LAST-MODIFIED:20220324T160430Z
UID:95165-1649548800-1649635199@www.optiknow.ca
SUMMARY:Inside Optics 2022 Conference & Tradeshow!
DESCRIPTION:We are excited to announce a return to Canada’s largest IN-PERSON Opticianry event! \nInside Optics 2022 Conference & Tradeshow! \n​Come see your favourite vendors\, your colleagues and get excited for all our excellent speakers! \n\n\nRegistration is OPEN NOW! \n​Members: $85 + HST \nNon-Members: $115 + HST \n\n​
URL:https://www.optiknow.ca/event/inside-optics-2022-conference-tradeshow/
LOCATION:Sheraton Parkway Toronto North Hotel & Suites\, Toronto\, Ontario\, Canada
CATEGORIES:Canada,conference
ATTACH;FMTTYPE=image/jpeg:https://www.optiknow.ca/wp-content/uploads/2022/03/Inside.jpg
END:VEVENT
BEGIN:VEVENT
DTSTART;TZID=America/Toronto:20220413T130000
DTEND;TZID=America/Toronto:20220413T150000
DTSTAMP:20260424T135617
CREATED:20220411T131811Z
LAST-MODIFIED:20220411T132006Z
UID:95521-1649854800-1649862000@www.optiknow.ca
SUMMARY:Anatomy of a Cyber Attack Live Webinar
DESCRIPTION:11am MST (1pm EST) \nWhat happens when your organization is struck by a cyber attack? What should you do first? What next? \nIn this exclusive 45-minute webinar\, we go behind the scenes to investigate real crimes. This is Forensic Files but for your business. \nJoin experts in Technology Law Nathan Schissel and Kristél Kriel from MLT Aikins LLP\, who will share insights from real-world breaches of small and medium-sized enterprises (SMEs). They will take us through the anatomy of a breach – what happened and what lessons we can draw to minimize loss and protect your organization’s reputation. \nIn this session\, we’ll cover: \n\nThe Legal Framework – What to do first when you experience a breach\nIncident Response Preparedness – How to best manage your cyber security risk\nReal-World Example of a Cyber Attack – Lessons from those that have already fought the fires\n\nThis webinar is suitable for executive leaders\, IT leaders\, and those that are responsible for the privacy\, compliance\, or risk management in an organization. \nRegister HERE
URL:https://www.optiknow.ca/event/anatomy-of-a-cyber-attack-webinar/
LOCATION:Alberta
CATEGORIES:conference,Virtual Event
ATTACH;FMTTYPE=image/jpeg:https://www.optiknow.ca/wp-content/uploads/2022/04/F12.net-event-400-X170px.jpg
END:VEVENT
BEGIN:VEVENT
DTSTART;TZID=America/Toronto:20220424T090000
DTEND;TZID=America/Toronto:20220424T143000
DTSTAMP:20260424T135617
CREATED:20220329T125933Z
LAST-MODIFIED:20220329T125933Z
UID:95256-1650790800-1650810600@www.optiknow.ca
SUMMARY:View Point Vancouver
DESCRIPTION:Join us in-person for a full day of informative sessions from leaders in vision care and research. Topics include: \n\nAge-related vision loss\, including age-related macular degeneration\, glaucoma\, and cataracts\nInnovations in gene therapy\nNew research into inherited retinal diseases\nThe importance of genetic testing\n\nYour ticket includes access to our exhibitor fair\, opportunities to meet with other people and families living with vision loss and a continental breakfast and healthy boxed lunch. \nPlease note that masks must be worn at all times\, except when eating in designated areas. We will also require proof of vaccination (12+) upon entry. \nPlease note that space is limited and we require pre-registration to attend.
URL:https://www.optiknow.ca/event/view-point-vancouver/
LOCATION:Stanley Park Pavilion\, 610 Pipeline Road\, Vancouver\, British Columbia\, Canada
CATEGORIES:conference
ATTACH;FMTTYPE=image/jpeg:https://www.optiknow.ca/wp-content/uploads/2022/03/fbc-social.jpg
END:VEVENT
END:VCALENDAR