BEGIN:VCALENDAR
VERSION:2.0
PRODID:-//OptikNow - ECPv6.2.2//NONSGML v1.0//EN
CALSCALE:GREGORIAN
METHOD:PUBLISH
X-ORIGINAL-URL:https://www.optiknow.ca
X-WR-CALDESC:Events for OptikNow
REFRESH-INTERVAL;VALUE=DURATION:PT1H
X-Robots-Tag:noindex
X-PUBLISHED-TTL:PT1H
BEGIN:VTIMEZONE
TZID:America/Toronto
BEGIN:DAYLIGHT
TZOFFSETFROM:-0500
TZOFFSETTO:-0400
TZNAME:EDT
DTSTART:20220313T070000
END:DAYLIGHT
BEGIN:STANDARD
TZOFFSETFROM:-0400
TZOFFSETTO:-0500
TZNAME:EST
DTSTART:20221106T060000
END:STANDARD
END:VTIMEZONE
BEGIN:VEVENT
DTSTART;VALUE=DATE:20220819
DTEND;VALUE=DATE:20220820
DTSTAMP:20260424T173255
CREATED:20220505T165427Z
LAST-MODIFIED:20220505T165427Z
UID:95995-1660867200-1660953599@www.optiknow.ca
SUMMARY:2022 VTC Conference on Vision & Learning
DESCRIPTION:Vision Therapy Canada is dedicated to enhancing optometric education and public awareness of Vision Therapy and Visual Rehabilitation\, and has a reputation for delivering high quality educational content and an exceptional conference experience for optometrists and vision therapists alike. Join us this August at The Westin Ottawa for the 2022 VTC Conference on Vision & Learning\, where you’ll have the opportunity to meet and network with hundreds of optometrists and vision therapists! This year we are excited to welcome international lecturers Dr. John Abbondanza and Dr. Nancy Torgerson as our highlighted speakers at the conference.
URL:https://www.optiknow.ca/event/2022-vtc-conference-on-vision-learning/
LOCATION:The Westin Ottawa\, 11 Colonel By Dr\, Ottawa\, Ontario\, K1N 9H4\, Canada
CATEGORIES:Canada,conference
ATTACH;FMTTYPE=image/png:https://www.optiknow.ca/wp-content/uploads/2022/05/image-555.png
END:VEVENT
END:VCALENDAR