BEGIN:VCALENDAR
VERSION:2.0
PRODID:-//OptikNow - ECPv6.2.2//NONSGML v1.0//EN
CALSCALE:GREGORIAN
METHOD:PUBLISH
X-WR-CALNAME:OptikNow
X-ORIGINAL-URL:https://www.optiknow.ca
X-WR-CALDESC:Events for OptikNow
REFRESH-INTERVAL;VALUE=DURATION:PT1H
X-Robots-Tag:noindex
X-PUBLISHED-TTL:PT1H
BEGIN:VTIMEZONE
TZID:America/Toronto
BEGIN:DAYLIGHT
TZOFFSETFROM:-0500
TZOFFSETTO:-0400
TZNAME:EDT
DTSTART:20230312T070000
END:DAYLIGHT
BEGIN:STANDARD
TZOFFSETFROM:-0400
TZOFFSETTO:-0500
TZNAME:EST
DTSTART:20231105T060000
END:STANDARD
END:VTIMEZONE
BEGIN:VEVENT
DTSTART;VALUE=DATE:20230927
DTEND;VALUE=DATE:20231001
DTSTAMP:20260423T061025
CREATED:20220628T155530Z
LAST-MODIFIED:20220628T155530Z
UID:96477-1695772800-1696118399@www.optiknow.ca
SUMMARY:Vision Expo West 2023
DESCRIPTION:
URL:https://www.optiknow.ca/event/vision-expo-west-2023/
LOCATION:The Venetian Expo\, 201 Sands Ave.\, Las Vegas\, NV\, 89169\, United States
CATEGORIES:conference
ATTACH;FMTTYPE=image/jpeg:https://www.optiknow.ca/wp-content/uploads/2022/03/Vision-Expo-Logo-Horizontal-01.jpg
END:VEVENT
END:VCALENDAR