BEGIN:VCALENDAR
VERSION:2.0
PRODID:-//OptikNow - ECPv6.2.2//NONSGML v1.0//EN
CALSCALE:GREGORIAN
METHOD:PUBLISH
X-ORIGINAL-URL:https://www.optiknow.ca
X-WR-CALDESC:Events for OptikNow
REFRESH-INTERVAL;VALUE=DURATION:PT1H
X-Robots-Tag:noindex
X-PUBLISHED-TTL:PT1H
BEGIN:VTIMEZONE
TZID:America/Toronto
BEGIN:DAYLIGHT
TZOFFSETFROM:-0500
TZOFFSETTO:-0400
TZNAME:EDT
DTSTART:20240310T070000
END:DAYLIGHT
BEGIN:STANDARD
TZOFFSETFROM:-0400
TZOFFSETTO:-0500
TZNAME:EST
DTSTART:20241103T060000
END:STANDARD
END:VTIMEZONE
BEGIN:VEVENT
DTSTART;VALUE=DATE:20240918
DTEND;VALUE=DATE:20240922
DTSTAMP:20260422T215419
CREATED:20231222T135641Z
LAST-MODIFIED:20231222T135641Z
UID:104073-1726617600-1726963199@www.optiknow.ca
SUMMARY:Vision Expo West 2024
DESCRIPTION:Vision Expo West is the complete event for ophthalmic professionals\, where eyecare meets eyewear and education\, fashion and innovation mingle.
URL:https://www.optiknow.ca/event/vision-expo-west-2024/
LOCATION:The Venetian Expo\, 201 Sands Ave.\, Las Vegas\, NV\, 89169\, United States
CATEGORIES:conference
ATTACH;FMTTYPE=image/jpeg:https://www.optiknow.ca/wp-content/uploads/2020/04/Vision-Expo-logo-for-events.jpg
END:VEVENT
END:VCALENDAR