BEGIN:VCALENDAR
VERSION:2.0
PRODID:-//OptikNow - ECPv6.2.2//NONSGML v1.0//EN
CALSCALE:GREGORIAN
METHOD:PUBLISH
X-ORIGINAL-URL:https://www.optiknow.ca
X-WR-CALDESC:Events for OptikNow
REFRESH-INTERVAL;VALUE=DURATION:PT1H
X-Robots-Tag:noindex
X-PUBLISHED-TTL:PT1H
BEGIN:VTIMEZONE
TZID:America/Toronto
BEGIN:DAYLIGHT
TZOFFSETFROM:-0500
TZOFFSETTO:-0400
TZNAME:EDT
DTSTART:20240310T070000
END:DAYLIGHT
BEGIN:STANDARD
TZOFFSETFROM:-0400
TZOFFSETTO:-0500
TZNAME:EST
DTSTART:20241103T060000
END:STANDARD
END:VTIMEZONE
BEGIN:VEVENT
DTSTART;VALUE=DATE:20241115
DTEND;VALUE=DATE:20241118
DTSTAMP:20260422T183141
CREATED:20240826T202439Z
LAST-MODIFIED:20241012T121159Z
UID:107715-1731628800-1731887999@www.optiknow.ca
SUMMARY:2024 Waterloo Eye Institute Fall Conference & Trade Show
DESCRIPTION:Join us in Markham\, Ontario\, November 15-17 as we explore this year’s theme: advanced diagnostics in optometry. Optometrists can earn 20-hours of COPE-accredited (pending) continuing education over three days plus exclusive access to our industry trade show! Our parallel\, one-day optometric staff program provides 6 hours of continuing education for optometric assistants\, ophthalmic technicians\, office managers and front desk staff from optometric offices and clinics. Presented by the University of Waterloo School of Optometry & Vision Science in collaboration with the Ontario Association of Optometrists (OAO). \n  \n 
URL:https://www.optiknow.ca/event/2024-waterloo-eye-institute-fall-conference-trade-show/
LOCATION:Hilton Markham Suites Hotel and Conference Centre\, 8500 Warden Ave\, Markham\, Ontario\, L6G 1A5\, Canada
CATEGORIES:Canada,conference,Optometric
ATTACH;FMTTYPE=image/jpeg:https://www.optiknow.ca/wp-content/uploads/2024/08/U-Waterloo-event-200-x200.jpg
ORGANIZER;CN="University of Waterloo School of Optometry & Vision Science":MAILTO:ce.optometry@uwaterloo.ca
END:VEVENT
END:VCALENDAR