BEGIN:VCALENDAR
VERSION:2.0
PRODID:-//OptikNow - ECPv6.2.2//NONSGML v1.0//EN
CALSCALE:GREGORIAN
METHOD:PUBLISH
X-WR-CALNAME:OptikNow
X-ORIGINAL-URL:https://www.optiknow.ca
X-WR-CALDESC:Events for OptikNow
REFRESH-INTERVAL;VALUE=DURATION:PT1H
X-Robots-Tag:noindex
X-PUBLISHED-TTL:PT1H
BEGIN:VTIMEZONE
TZID:America/Toronto
BEGIN:DAYLIGHT
TZOFFSETFROM:-0500
TZOFFSETTO:-0400
TZNAME:EDT
DTSTART:20220313T070000
END:DAYLIGHT
BEGIN:STANDARD
TZOFFSETFROM:-0400
TZOFFSETTO:-0500
TZNAME:EST
DTSTART:20221106T060000
END:STANDARD
BEGIN:DAYLIGHT
TZOFFSETFROM:-0500
TZOFFSETTO:-0400
TZNAME:EDT
DTSTART:20230312T070000
END:DAYLIGHT
BEGIN:STANDARD
TZOFFSETFROM:-0400
TZOFFSETTO:-0500
TZNAME:EST
DTSTART:20231105T060000
END:STANDARD
BEGIN:DAYLIGHT
TZOFFSETFROM:-0500
TZOFFSETTO:-0400
TZNAME:EDT
DTSTART:20240310T070000
END:DAYLIGHT
BEGIN:STANDARD
TZOFFSETFROM:-0400
TZOFFSETTO:-0500
TZNAME:EST
DTSTART:20241103T060000
END:STANDARD
BEGIN:DAYLIGHT
TZOFFSETFROM:-0500
TZOFFSETTO:-0400
TZNAME:EDT
DTSTART:20250309T070000
END:DAYLIGHT
BEGIN:STANDARD
TZOFFSETFROM:-0400
TZOFFSETTO:-0500
TZNAME:EST
DTSTART:20251102T060000
END:STANDARD
END:VTIMEZONE
BEGIN:VEVENT
DTSTART;VALUE=DATE:20250702
DTEND;VALUE=DATE:20250706
DTSTAMP:20260422T143630
CREATED:20250311T152813Z
LAST-MODIFIED:20250311T152813Z
UID:110664-1751414400-1751759999@www.optiknow.ca
SUMMARY:Canadian Association of Optometrists 39th Congress 2025
DESCRIPTION:The 39th CAO Congress brings together Canadian Doctors of Optometry\, optometry students\, and optometric assistants from across Canada. CAO represents over 8\,400 members with a wide diversity of optometric practice. \n  \nThe CAO Congress will take place July 2-5\, 2025 in picturesque Halifax. From bustling cityscapes to serene seasides\, Halifax has something for everyone to enjoy and explore!
URL:https://www.optiknow.ca/event/canadian-association-of-optometrists-39th-congress-2025/
LOCATION:Halifax Convention Centre\, 1650 Argyle St\, Halifax\, Nova Scotia\, B3J 0E6\, Canada
CATEGORIES:Canada,Congress
ATTACH;FMTTYPE=image/png:https://www.optiknow.ca/wp-content/uploads/2025/03/4605972-6728f68cbb8eb.png
END:VEVENT
BEGIN:VEVENT
DTSTART;VALUE=DATE:20230705
DTEND;VALUE=DATE:20230709
DTSTAMP:20260422T143630
CREATED:20230118T193953Z
LAST-MODIFIED:20230118T193953Z
UID:99417-1688515200-1688860799@www.optiknow.ca
SUMMARY:CAO Congress 2023
DESCRIPTION:Join us in beautiful historic Quebec City for the 38th Biennial Conference of the Canadian Association of Optometrists (COA)! The CAO Congress brings together optometrists\, optometric students\, optometric assistants\, expert speakers and industry representatives from across Canada and beyond! This is a wonderful opportunity to come together to reconnect\, learn and explore together!
URL:https://www.optiknow.ca/event/cao-congress-2023/
LOCATION:Quebec City Convention Centre\, Québec\, Québec\, Canada
CATEGORIES:Canada,Congress
ATTACH;FMTTYPE=image/png:https://www.optiknow.ca/wp-content/uploads/2023/01/cao_congress_2023_logo_web_72ppi.png
END:VEVENT
BEGIN:VEVENT
DTSTART;VALUE=DATE:20220825
DTEND;VALUE=DATE:20220829
DTSTAMP:20260422T143630
CREATED:20220324T154538Z
LAST-MODIFIED:20220324T154538Z
UID:95134-1661385600-1661731199@www.optiknow.ca
SUMMARY:9th International Congress of Behavioral Optometry
DESCRIPTION:ICBO is a global optometric congress that celebrates the collaborative nature of our profession. It brings people together from many countries\, many disciplines\, many backgrounds and many stages of their careers.
URL:https://www.optiknow.ca/event/9th-international-congress-of-behavioral-optometry/
LOCATION:Ottawa\, ON K2P 1B9\, Ottawa\, Ontario\, Canada
CATEGORIES:Congress
ATTACH;FMTTYPE=image/png:https://www.optiknow.ca/wp-content/uploads/2022/03/icb2022_0_0.png
END:VEVENT
BEGIN:VEVENT
DTSTART;VALUE=DATE:20220706
DTEND;VALUE=DATE:20220710
DTSTAMP:20260422T143630
CREATED:20220324T154315Z
LAST-MODIFIED:20220408T151021Z
UID:95129-1657065600-1657411199@www.optiknow.ca
SUMMARY:CAO Congress 2022
DESCRIPTION:Join us at the 2022 CAO Congress\, July 6–9th in St. John’s\, NL!\nYou are invited to join us in beautiful St. John’s\, Newfoundland and Labrador for the 37th Canadian Association of Optometrists (CAO) Biennial Congress! As we once again gather\, face to face\, to reconnect\, learn and reflect\, we know Congress will look and feel different\, however\, there is no better time or place to do so.
URL:https://www.optiknow.ca/event/cao-congress-2022/
LOCATION:St. John’s NL Canada\, St.Johns\, Newfoundland\, Canada
CATEGORIES:Congress
ATTACH;FMTTYPE=image/png:https://www.optiknow.ca/wp-content/uploads/2022/03/CAO-Congress-2022.png
END:VEVENT
END:VCALENDAR