BEGIN:VCALENDAR
VERSION:2.0
PRODID:-//OptikNow - ECPv6.2.2//NONSGML v1.0//EN
CALSCALE:GREGORIAN
METHOD:PUBLISH
X-ORIGINAL-URL:https://www.optiknow.ca
X-WR-CALDESC:Events for OptikNow
REFRESH-INTERVAL;VALUE=DURATION:PT1H
X-Robots-Tag:noindex
X-PUBLISHED-TTL:PT1H
BEGIN:VTIMEZONE
TZID:America/Toronto
BEGIN:DAYLIGHT
TZOFFSETFROM:-0500
TZOFFSETTO:-0400
TZNAME:EDT
DTSTART:20220313T070000
END:DAYLIGHT
BEGIN:STANDARD
TZOFFSETFROM:-0400
TZOFFSETTO:-0500
TZNAME:EST
DTSTART:20221106T060000
END:STANDARD
END:VTIMEZONE
BEGIN:VEVENT
DTSTART;VALUE=DATE:20221019
DTEND;VALUE=DATE:20221022
DTSTAMP:20260423T075644
CREATED:20220302T165459Z
LAST-MODIFIED:20220310T163834Z
UID:94710-1666137600-1666396799@www.optiknow.ca
SUMMARY:VisionPlus EXPO 2022
DESCRIPTION:
URL:https://www.optiknow.ca/event/visionplus-expo-2022/
LOCATION:Festival City Arena Dubai\, Dubai\, United Arab Emirates
CATEGORIES:International Conference
ATTACH;FMTTYPE=image/jpeg:https://www.optiknow.ca/wp-content/uploads/2022/03/VisionPlus_EXPO_2022-logo-event.jpg
END:VEVENT
BEGIN:VEVENT
DTSTART;VALUE=DATE:20221019
DTEND;VALUE=DATE:20221022
DTSTAMP:20260423T075644
CREATED:20220324T161311Z
LAST-MODIFIED:20220324T161311Z
UID:95191-1666137600-1666396799@www.optiknow.ca
SUMMARY:VisionPlus EXPO 2022 DUBAI
DESCRIPTION:The global optical business seems set for rebuilding and reclaiming lost ground. VisionPlus EXPO 2022 invites the optical world to come to Dubai for a true celebration of eyewear (19-20-21 october 2022)
URL:https://www.optiknow.ca/event/visionplus-expo-2022-dubai/
CATEGORIES:International Conference
ATTACH;FMTTYPE=image/jpeg:https://www.optiknow.ca/wp-content/uploads/2022/03/unnamed-8.jpg
ORGANIZER;CN="Vision Expo":MAILTO:inquiry@visionexpo.com
END:VEVENT
END:VCALENDAR