BEGIN:VCALENDAR
VERSION:2.0
PRODID:-//OptikNow - ECPv6.2.2//NONSGML v1.0//EN
CALSCALE:GREGORIAN
METHOD:PUBLISH
X-WR-CALNAME:OptikNow
X-ORIGINAL-URL:https://www.optiknow.ca
X-WR-CALDESC:Events for OptikNow
REFRESH-INTERVAL;VALUE=DURATION:PT1H
X-Robots-Tag:noindex
X-PUBLISHED-TTL:PT1H
BEGIN:VTIMEZONE
TZID:America/Toronto
BEGIN:DAYLIGHT
TZOFFSETFROM:-0500
TZOFFSETTO:-0400
TZNAME:EDT
DTSTART:20220313T070000
END:DAYLIGHT
BEGIN:STANDARD
TZOFFSETFROM:-0400
TZOFFSETTO:-0500
TZNAME:EST
DTSTART:20221106T060000
END:STANDARD
END:VTIMEZONE
BEGIN:VEVENT
DTSTART;VALUE=DATE:20220405
DTEND;VALUE=DATE:20220410
DTSTAMP:20260423T180005
CREATED:20220318T211204Z
LAST-MODIFIED:20220318T211204Z
UID:95034-1649116800-1649548799@www.optiknow.ca
SUMMARY:51st Annual COVD Meeting
DESCRIPTION:With excitement\, we look forward to bringing you a line up of clinically relevant\, evidence based education for all levels of interest. Join us for our popular two-day\, pre-meeting hands on learning opportunities! ANNOUNCING THREE ANNUAL MEETING EDUCATION ROOMS. This year we are offering MORE opportunities for you to sharpen your skills or gain new ones!
URL:https://www.optiknow.ca/event/51st-annual-covd-meeting/
LOCATION:Hyatt Regency Columbus OH\, 350 North High Street\, Columbus\, OH\, 43215\, United States
CATEGORIES:International Conference,Optometric
ATTACH;FMTTYPE=image/jpeg:https://www.optiknow.ca/wp-content/uploads/2022/03/COVD-Mtg.jpg
ORGANIZER;CN="(COVD) College of Optometrists in Vision Development":MAILTO:info@covd.org
END:VEVENT
END:VCALENDAR