BEGIN:VCALENDAR
VERSION:2.0
PRODID:-//OptikNow - ECPv6.2.2//NONSGML v1.0//EN
CALSCALE:GREGORIAN
METHOD:PUBLISH
X-ORIGINAL-URL:https://www.optiknow.ca
X-WR-CALDESC:Events for OptikNow
REFRESH-INTERVAL;VALUE=DURATION:PT1H
X-Robots-Tag:noindex
X-PUBLISHED-TTL:PT1H
BEGIN:VTIMEZONE
TZID:America/Toronto
BEGIN:DAYLIGHT
TZOFFSETFROM:-0500
TZOFFSETTO:-0400
TZNAME:EDT
DTSTART:20220313T070000
END:DAYLIGHT
BEGIN:STANDARD
TZOFFSETFROM:-0400
TZOFFSETTO:-0500
TZNAME:EST
DTSTART:20221106T060000
END:STANDARD
END:VTIMEZONE
BEGIN:VEVENT
DTSTART;VALUE=DATE:20220708
DTEND;VALUE=DATE:20220711
DTSTAMP:20260423T150345
CREATED:20220321T183925Z
LAST-MODIFIED:20220323T201429Z
UID:95073-1657238400-1657497599@www.optiknow.ca
SUMMARY:National Optometric Association Convention
DESCRIPTION:Registration Now Open!\nRenewing the Promise is the goal for the 2022 annual convention\, to be held July 8-10 in Anaheim California. The NOA will provide 16 hours of COPE Approved Pending Courses. Register Before April 31st to receive your early bird discount!\n 
URL:https://www.optiknow.ca/event/national-optometric-association-convention/
LOCATION:Embassy Suites by Hilton Anaheim South\, 11767 Harbor Boulevard\, Garden Grove\, CA\, 92840\, United States
CATEGORIES:International Conference
ATTACH;FMTTYPE=image/jpeg:https://www.optiknow.ca/wp-content/uploads/2022/03/Convention-promo-Cover.jpg
END:VEVENT
END:VCALENDAR