BEGIN:VCALENDAR
VERSION:2.0
PRODID:-//OptikNow - ECPv6.2.2//NONSGML v1.0//EN
CALSCALE:GREGORIAN
METHOD:PUBLISH
X-ORIGINAL-URL:https://www.optiknow.ca
X-WR-CALDESC:Events for OptikNow
REFRESH-INTERVAL;VALUE=DURATION:PT1H
X-Robots-Tag:noindex
X-PUBLISHED-TTL:PT1H
BEGIN:VTIMEZONE
TZID:America/Toronto
BEGIN:DAYLIGHT
TZOFFSETFROM:-0500
TZOFFSETTO:-0400
TZNAME:EDT
DTSTART:20260308T070000
END:DAYLIGHT
BEGIN:STANDARD
TZOFFSETFROM:-0400
TZOFFSETTO:-0500
TZNAME:EST
DTSTART:20261101T060000
END:STANDARD
END:VTIMEZONE
BEGIN:VEVENT
DTSTART;VALUE=DATE:20260925
DTEND;VALUE=DATE:20260929
DTSTAMP:20260420T215501
CREATED:20260206T215422Z
LAST-MODIFIED:20260206T220824Z
UID:115868-1790294400-1790639999@www.optiknow.ca
SUMMARY:SILMO Paris 2026
DESCRIPTION:The place to be\, to see\, to foresee\nSILMO PARIS\, the unmissable gathering for international optics and eyewear\nSILMO Paris is far more than a trade show: it is the stage where creativity\, boldness\, ingenuity and conviviality come to life. From 25 to 28 September\, the Parc des Expositions Paris Nord Villepinte becomes the beating heart of an entire sector. A true international crossroads\, SILMO Paris is the event where professionals from across the industry meet to discover major innovations\, tomorrow’s trends\, emerging talent\, collection and product launches\, as well as the excellence of expertise. It is here\, at SILMO Paris\, that it all begins!
URL:https://www.optiknow.ca/event/silmo-paris-2026/
LOCATION:Parc des Expositions de Paris Nord Villepinte\, Hall 5A-6\, 95420 Villepinte\, France
CATEGORIES:International Conference
ATTACH;FMTTYPE=image/jpeg:https://www.optiknow.ca/wp-content/uploads/2026/02/Silmo-Paris-logo-event-800-x-450.jpg
END:VEVENT
END:VCALENDAR