BEGIN:VCALENDAR
VERSION:2.0
PRODID:-//OptikNow - ECPv6.2.2//NONSGML v1.0//EN
CALSCALE:GREGORIAN
METHOD:PUBLISH
X-ORIGINAL-URL:https://www.optiknow.ca
X-WR-CALDESC:Events for OptikNow
REFRESH-INTERVAL;VALUE=DURATION:PT1H
X-Robots-Tag:noindex
X-PUBLISHED-TTL:PT1H
BEGIN:VTIMEZONE
TZID:America/Toronto
BEGIN:DAYLIGHT
TZOFFSETFROM:-0500
TZOFFSETTO:-0400
TZNAME:EDT
DTSTART:20240310T070000
END:DAYLIGHT
BEGIN:STANDARD
TZOFFSETFROM:-0400
TZOFFSETTO:-0500
TZNAME:EST
DTSTART:20241103T060000
END:STANDARD
END:VTIMEZONE
BEGIN:VEVENT
DTSTART;VALUE=DATE:20241006
DTEND;VALUE=DATE:20241007
DTSTAMP:20260419T141204
CREATED:20240208T181143Z
LAST-MODIFIED:20240208T181143Z
UID:105196-1728172800-1728259199@www.optiknow.ca
SUMMARY:FOCUS ON: London 2024
DESCRIPTION:
URL:https://www.optiknow.ca/event/focus-on-london-2024/
LOCATION:Ivey Spencer Leadership Centre\, 551 Windermere Rd\, London\, Ontario\, N5X 2T1\, Canada
CATEGORIES:Canada,Live Meeting
ATTACH;FMTTYPE=image/webp:https://www.optiknow.ca/wp-content/uploads/2024/02/ontario-opticans.webp
END:VEVENT
BEGIN:VEVENT
DTSTART;TZID=America/Toronto:20241006T080000
DTEND;TZID=America/Toronto:20241006T160000
DTSTAMP:20260419T141204
CREATED:20240827T150401Z
LAST-MODIFIED:20240827T150401Z
UID:107738-1728201600-1728230400@www.optiknow.ca
SUMMARY:Connect Ontario 2024
DESCRIPTION:Join us for Connect Ontario\, a full day of in-person continuing education tailored to bring together Opticians from across Ontario. Enjoy a day of learning that not only help you meet your yearly CE requirements but also promises a fantastic time. All announced speakers will be present\, ensuring a dynamic and engaging live experience for everyone. \nThis event is a collaborative effort between The Optical Group and the Opticians Association of Canada. Optical Group Members can attend the event for free by registering through their system by clicking HERE  .
URL:https://www.optiknow.ca/event/connect-ontario-2024/
LOCATION:White Oaks Conference Resort and Spa\, 253 Taylor Rd\, Niagara-on-the-Lake\, Ontario\, L0S 1J0\, Canada
CATEGORIES:Canada,Live Meeting
ATTACH;FMTTYPE=image/png:https://www.optiknow.ca/wp-content/uploads/2024/08/ON2024.png
END:VEVENT
BEGIN:VEVENT
DTSTART;TZID=America/Toronto:20241009T180000
DTEND;TZID=America/Toronto:20241009T200000
DTSTAMP:20260419T141204
CREATED:20240912T154430Z
LAST-MODIFIED:20240912T154430Z
UID:107972-1728496800-1728504000@www.optiknow.ca
SUMMARY:OAC Student Night BC 2024
DESCRIPTION:This evening\, hosted by the Opticians Association of Canada\, is an opportunity for optical program students\, recent graduates (non-licensed)\, faculty and optical community guests to enjoy an evening of engaging conversation\, networking\, appetizers\, beverages and to explore potential employment opportunities.
URL:https://www.optiknow.ca/event/oac-student-night-bc-2024/
LOCATION:Civic Hotel Surrey\, BC\, 13475 Central Avenue\, Surrey\, British Columbia\, V3T 0L8\, Canada
CATEGORIES:Canada,Live Meeting
ATTACH;FMTTYPE=image/png:https://www.optiknow.ca/wp-content/uploads/2024/09/ENG_EventHeader_StudentNightBC2024.png
END:VEVENT
BEGIN:VEVENT
DTSTART;TZID=America/Toronto:20241023T180000
DTEND;TZID=America/Toronto:20241023T200000
DTSTAMP:20260419T141204
CREATED:20240912T154951Z
LAST-MODIFIED:20240912T154951Z
UID:107977-1729706400-1729713600@www.optiknow.ca
SUMMARY:OAC Student Night NB 2024
DESCRIPTION:This evening\, hosted by the Opticians Association of Canada\, is an opportunity for optical program students\, recent graduates (non-licensed)\, faculty and optical community guests to enjoy an evening of engaging conversation\, networking\, appetizers\, beverages and to explore potential employment opportunities.
URL:https://www.optiknow.ca/event/oac-student-night-nb-2024/
LOCATION:Delta Hotels Beausejour\, 750 Main Street\, Moncton\, New Brunswick\, E1C 1E6\, Canada
CATEGORIES:Canada,Live Meeting
ATTACH;FMTTYPE=image/png:https://www.optiknow.ca/wp-content/uploads/2024/09/StudentNight_NB2024_Header.png
END:VEVENT
BEGIN:VEVENT
DTSTART;TZID=America/Toronto:20241027T083000
DTEND;TZID=America/Toronto:20241027T170000
DTSTAMP:20260419T141204
CREATED:20240725T165848Z
LAST-MODIFIED:20240725T165848Z
UID:107322-1730017800-1730048400@www.optiknow.ca
SUMMARY:CONNECT MANITOBA 2024
DESCRIPTION:Join us for Connect Winnipeg\, a full day of in-person continuing education tailored to bring together Opticians from across Manitoba. Enjoy a day of learning that not only help you meet your yearly CE requirements but also promises a fantastic time. All announced speakers will be present\, ensuring a dynamic and engaging live experience for everyone.
URL:https://www.optiknow.ca/event/connect-manitoba-2024/
LOCATION:Delta Hotels by Marriott Winnipeg\, 350 St Mary Ave\, Winnipeg\, Manitoba\, R3C 3J2\, Canada
CATEGORIES:Canada,Live Meeting
ATTACH;FMTTYPE=image/png:https://www.optiknow.ca/wp-content/uploads/2024/07/MB2024-1.png
END:VEVENT
END:VCALENDAR