BEGIN:VCALENDAR
VERSION:2.0
PRODID:-//OptikNow - ECPv6.2.2//NONSGML v1.0//EN
CALSCALE:GREGORIAN
METHOD:PUBLISH
X-WR-CALNAME:OptikNow
X-ORIGINAL-URL:https://www.optiknow.ca
X-WR-CALDESC:Events for OptikNow
REFRESH-INTERVAL;VALUE=DURATION:PT1H
X-Robots-Tag:noindex
X-PUBLISHED-TTL:PT1H
BEGIN:VTIMEZONE
TZID:America/Toronto
BEGIN:DAYLIGHT
TZOFFSETFROM:-0500
TZOFFSETTO:-0400
TZNAME:EDT
DTSTART:20230312T070000
END:DAYLIGHT
BEGIN:STANDARD
TZOFFSETFROM:-0400
TZOFFSETTO:-0500
TZNAME:EST
DTSTART:20231105T060000
END:STANDARD
END:VTIMEZONE
BEGIN:VEVENT
DTSTART;TZID=America/Toronto:20230910T083000
DTEND;TZID=America/Toronto:20230910T173000
DTSTAMP:20260420T205718
CREATED:20230705T161249Z
LAST-MODIFIED:20230705T161249Z
UID:101447-1694334600-1694367000@www.optiknow.ca
SUMMARY:ON OPTICS: Ottawa 2023 & Tradeshow
DESCRIPTION:The Ontario Opticians Association is proud to present our Incredible Ottawa in-person event: \n\nON OPTICS: Ottawa 2023 & Tradeshow \nSunday September 10th\, 2023 Doors open at 7:30 AM | Lectures begin at 8:30 AM \n\nCome to Ontario’s most dynamic educational experience! \nON OPTICS: Ottawa is a full day of education\, networking\, tradeshow booths and much more! \n\nThe event will be hosted at L’Excentricité Collège La Cité\, Ottawa\, ON. \n\nDon’t miss our IN-PERSON event in our nation’s capital! \nWe offer: \n✓ Reduced Registration Rate for OOA Members \n✓ COO Accredited Programming \n✓ Self-Directed Learning hours \n✓ Networking Opportunities with other Optical Professionals \n✓ As always… Awesome Meals and Snacks
URL:https://www.optiknow.ca/event/on-optics-ottawa-2023-tradeshow/
LOCATION:L’Excentricité Collège La Cité\, 801 Aviation Pkwy\, Ottawa\, Ontario\, K1K 4R3\, Canada
CATEGORIES:Canada,Live Meeting
ATTACH;FMTTYPE=image/webp:https://www.optiknow.ca/wp-content/uploads/2023/07/Copy-of-Focus-ON-Ottawa-NOW.webp
END:VEVENT
END:VCALENDAR