BEGIN:VCALENDAR
VERSION:2.0
PRODID:-//OptikNow - ECPv6.2.2//NONSGML v1.0//EN
CALSCALE:GREGORIAN
METHOD:PUBLISH
X-ORIGINAL-URL:https://www.optiknow.ca
X-WR-CALDESC:Events for OptikNow
REFRESH-INTERVAL;VALUE=DURATION:PT1H
X-Robots-Tag:noindex
X-PUBLISHED-TTL:PT1H
BEGIN:VTIMEZONE
TZID:America/Toronto
BEGIN:DAYLIGHT
TZOFFSETFROM:-0500
TZOFFSETTO:-0400
TZNAME:EDT
DTSTART:20240310T070000
END:DAYLIGHT
BEGIN:STANDARD
TZOFFSETFROM:-0400
TZOFFSETTO:-0500
TZNAME:EST
DTSTART:20241103T060000
END:STANDARD
END:VTIMEZONE
BEGIN:VEVENT
DTSTART;TZID=America/Toronto:20240211T180000
DTEND;TZID=America/Toronto:20240214T093000
DTSTAMP:20260421T074901
CREATED:20231018T193215Z
LAST-MODIFIED:20240109T135312Z
UID:102743-1707674400-1707903000@www.optiknow.ca
SUMMARY:TRANSITIONS® ACADEMY
DESCRIPTION:Transitions® Academy 2024 will provide industry professionals with the opportunity to expand their knowledge through expert presentations\, inspiring guest speakers\, and Transitions product and professional development workshops. \nBeginning: February 11\, 6pm \nEnd: February 14\, Departure (no activities)
URL:https://www.optiknow.ca/event/transitions-academy/
LOCATION:JW Marriott Grande Lakes\, Orlando\, FL\, United States
CATEGORIES:conference,Live Meeting
ATTACH;FMTTYPE=image/png:https://www.optiknow.ca/wp-content/uploads/2023/10/TPRO-WhatsHotPage_Thumbnail.png
ORGANIZER;CN="Transitions Academy":MAILTO:cservice@transitions.com
END:VEVENT
END:VCALENDAR