BEGIN:VCALENDAR
VERSION:2.0
PRODID:-//OptikNow - ECPv6.2.2//NONSGML v1.0//EN
CALSCALE:GREGORIAN
METHOD:PUBLISH
X-WR-CALNAME:OptikNow
X-ORIGINAL-URL:https://www.optiknow.ca
X-WR-CALDESC:Events for OptikNow
REFRESH-INTERVAL;VALUE=DURATION:PT1H
X-Robots-Tag:noindex
X-PUBLISHED-TTL:PT1H
BEGIN:VTIMEZONE
TZID:America/Toronto
BEGIN:DAYLIGHT
TZOFFSETFROM:-0500
TZOFFSETTO:-0400
TZNAME:EDT
DTSTART:20240310T070000
END:DAYLIGHT
BEGIN:STANDARD
TZOFFSETFROM:-0400
TZOFFSETTO:-0500
TZNAME:EST
DTSTART:20241103T060000
END:STANDARD
END:VTIMEZONE
BEGIN:VEVENT
DTSTART;TZID=America/Toronto:20240610T174500
DTEND;TZID=America/Toronto:20240610T210000
DTSTAMP:20260421T201742
CREATED:20240501T164837Z
LAST-MODIFIED:20240501T164837Z
UID:106323-1718041500-1718053200@www.optiknow.ca
SUMMARY:2024 AAO Regional Meeting - Lethbridge
DESCRIPTION:The AAO and ACO are again headed out to meet with members at in-person Regional Meetings across Alberta. \nThey will be seeking your feedback on strategic plans\, looking for your insights on issues important to you\, updating you on the work that has taken place over the past year\, and taking a look at the emerging priorities like scope expansion and Alberta Health billings. \nThis is a great opportunity to provide your thoughts and comments and\, at the same time\, catch up with colleagues over dinner.
URL:https://www.optiknow.ca/event/2024-aao-regional-meeting-lethbridge/
LOCATION:The Coast Lethbridge Hotel & Conference Centre\, 526 Mayor Magrath Drive South\, Lethbridge\, Alberta\, T1J 3M2\, Canada
CATEGORIES:Canada,Live Meeting
ATTACH;FMTTYPE=image/jpeg:https://www.optiknow.ca/wp-content/uploads/2024/05/alberta-association-of-optometrists.jpg
ORGANIZER;CN="Alberta Association of Optometrists":MAILTO:alberta.association@optometrists.ab.ca
END:VEVENT
END:VCALENDAR