BEGIN:VCALENDAR
VERSION:2.0
PRODID:-//OptikNow - ECPv6.2.2//NONSGML v1.0//EN
CALSCALE:GREGORIAN
METHOD:PUBLISH
X-ORIGINAL-URL:https://www.optiknow.ca
X-WR-CALDESC:Events for OptikNow
REFRESH-INTERVAL;VALUE=DURATION:PT1H
X-Robots-Tag:noindex
X-PUBLISHED-TTL:PT1H
BEGIN:VTIMEZONE
TZID:America/Toronto
BEGIN:DAYLIGHT
TZOFFSETFROM:-0500
TZOFFSETTO:-0400
TZNAME:EDT
DTSTART:20240310T070000
END:DAYLIGHT
BEGIN:STANDARD
TZOFFSETFROM:-0400
TZOFFSETTO:-0500
TZNAME:EST
DTSTART:20241103T060000
END:STANDARD
END:VTIMEZONE
BEGIN:VEVENT
DTSTART;TZID=America/Toronto:20240908T100000
DTEND;TZID=America/Toronto:20240908T150000
DTSTAMP:20260419T191950
CREATED:20240827T145430Z
LAST-MODIFIED:20240827T145430Z
UID:107730-1725789600-1725807600@www.optiknow.ca
SUMMARY:New Grad Orientation 2024 Calgary
DESCRIPTION:The 2024 New Grad Orientation is an opportunity for graduates to gain a better understanding of the optometric profession in Alberta and it leaves them with practical tools\, information\, and advice to ensure they are getting the most out of their profession for years to come. \nThis in-person session in Edmonton will present new grads with information on several topics. From patient and practice management\, Alberta Health billing\, accounting\, and debt management\, it is a very full day of learning and discussion.
URL:https://www.optiknow.ca/event/new-grad-orientation-2024-calgary/
LOCATION:Silver Springs Gold & Country Club\, 1600 Varsity Estates Drive NW\, Calgary\, Alberta\, T3B 2W9\, Canada
CATEGORIES:Canada,Live Meeting
ATTACH;FMTTYPE=image/jpeg:https://www.optiknow.ca/wp-content/uploads/2024/08/alberta-association-of-optometrists.jpg
ORGANIZER;CN="Alberta Association of Optometrists":MAILTO:alberta.association@optometrists.ab.ca
END:VEVENT
END:VCALENDAR