BEGIN:VCALENDAR
VERSION:2.0
PRODID:-//OptikNow - ECPv6.2.2//NONSGML v1.0//EN
CALSCALE:GREGORIAN
METHOD:PUBLISH
X-ORIGINAL-URL:https://www.optiknow.ca
X-WR-CALDESC:Events for OptikNow
REFRESH-INTERVAL;VALUE=DURATION:PT1H
X-Robots-Tag:noindex
X-PUBLISHED-TTL:PT1H
BEGIN:VTIMEZONE
TZID:America/Toronto
BEGIN:DAYLIGHT
TZOFFSETFROM:-0500
TZOFFSETTO:-0400
TZNAME:EDT
DTSTART:20240310T070000
END:DAYLIGHT
BEGIN:STANDARD
TZOFFSETFROM:-0400
TZOFFSETTO:-0500
TZNAME:EST
DTSTART:20241103T060000
END:STANDARD
END:VTIMEZONE
BEGIN:VEVENT
DTSTART;TZID=America/Toronto:20240928T130000
DTEND;TZID=America/Toronto:20240928T180000
DTSTAMP:20260419T173655
CREATED:20240501T162950Z
LAST-MODIFIED:20240501T162950Z
UID:106311-1727528400-1727546400@www.optiknow.ca
SUMMARY:VIEW POINT TORONTO 2024
DESCRIPTION:Fighting Blindness Canada presents VIEW POINT\, an educational conference bringing you the latest information in vision health and research! Hear from experts\, connect with others affected by vision loss and visit our exhibitors to learn about new resources.
URL:https://www.optiknow.ca/event/view-point-toronto-2024/
LOCATION:Toronto Reference Library\, 789 Yonge Street\, Toronto\, Ontario\, M4W 2G8\, Canada
CATEGORIES:Canada,Live Meeting
ATTACH;FMTTYPE=image/png:https://www.optiknow.ca/wp-content/uploads/2024/05/fighting-blindness-logo.png
END:VEVENT
END:VCALENDAR