BEGIN:VCALENDAR
VERSION:2.0
PRODID:-//OptikNow - ECPv6.2.2//NONSGML v1.0//EN
CALSCALE:GREGORIAN
METHOD:PUBLISH
X-WR-CALNAME:OptikNow
X-ORIGINAL-URL:https://www.optiknow.ca
X-WR-CALDESC:Events for OptikNow
REFRESH-INTERVAL;VALUE=DURATION:PT1H
X-Robots-Tag:noindex
X-PUBLISHED-TTL:PT1H
BEGIN:VTIMEZONE
TZID:America/Toronto
BEGIN:DAYLIGHT
TZOFFSETFROM:-0500
TZOFFSETTO:-0400
TZNAME:EDT
DTSTART:20240310T070000
END:DAYLIGHT
BEGIN:STANDARD
TZOFFSETFROM:-0400
TZOFFSETTO:-0500
TZNAME:EST
DTSTART:20241103T060000
END:STANDARD
END:VTIMEZONE
BEGIN:VEVENT
DTSTART;VALUE=DATE:20241115
DTEND;VALUE=DATE:20241118
DTSTAMP:20260419T141331
CREATED:20241107T142141Z
LAST-MODIFIED:20241107T142141Z
UID:109110-1731628800-1731887999@www.optiknow.ca
SUMMARY:Waterloo Eye Institute Fall Conference and Trade Show 2024
DESCRIPTION:Join us in Markham\, Ontario\, November 15-17 as we explore this year’s theme: Advanced diagnostics in optometry. We’re offering optometrists 20 COPE-accredited (pending) hours over three days plus exclusive access to our industry trade show! Our parallel\, one-day optometric staff program provides 6 hours of continuing education for optometric assistants\, ophthalmic technicians\, office managers and front desk staff from optometric offices and clinics. \nAs the University of Waterloo School of Optometry and Vision Science\, we’re ranked third in North America in research impact – fifth in the world – and we operate Canada’s largest optometric clinic\, with some 28\,000 patient visits a year spanning from primary eye care to a range of specialty services. As a result\, we offer continuing professional development rooted in clinical evidence and informed by the latest lab-to-clinic research.
URL:https://www.optiknow.ca/event/waterloo-eye-institute-fall-conference-and-trade-show-2024/
LOCATION:Hilton Markham Suites Hotel and Conference Centre\, 8500 Warden Ave\, Markham\, Ontario\, L6G 1A5\, Canada
CATEGORIES:Canada,Live Meeting,Optometric
ATTACH;FMTTYPE=image/jpeg:https://www.optiknow.ca/wp-content/uploads/2024/11/university-waterloo-school-optometry-vision-science.jpg
END:VEVENT
END:VCALENDAR