BEGIN:VCALENDAR
VERSION:2.0
PRODID:-//OptikNow - ECPv6.2.2//NONSGML v1.0//EN
CALSCALE:GREGORIAN
METHOD:PUBLISH
X-ORIGINAL-URL:https://www.optiknow.ca
X-WR-CALDESC:Events for OptikNow
REFRESH-INTERVAL;VALUE=DURATION:PT1H
X-Robots-Tag:noindex
X-PUBLISHED-TTL:PT1H
BEGIN:VTIMEZONE
TZID:America/Toronto
BEGIN:DAYLIGHT
TZOFFSETFROM:-0500
TZOFFSETTO:-0400
TZNAME:EDT
DTSTART:20250309T070000
END:DAYLIGHT
BEGIN:STANDARD
TZOFFSETFROM:-0400
TZOFFSETTO:-0500
TZNAME:EST
DTSTART:20251102T060000
END:STANDARD
END:VTIMEZONE
BEGIN:VEVENT
DTSTART;VALUE=DATE:20250219
DTEND;VALUE=DATE:20250223
DTSTAMP:20260419T111620
CREATED:20241011T160510Z
LAST-MODIFIED:20241011T160510Z
UID:108544-1739923200-1740268799@www.optiknow.ca
SUMMARY:Vision Expo East 2025
DESCRIPTION:Vision Expo East is the complete event for ophthalmic professionals\, where eyecare meets eyewear and education\, fashion and innovation mingle. Join eyecare professionals\, buyers\, influencers\, and technology leaders at Vision Expo! \nEducation: February 19 – 22\, 2025 | Exhibit Hall: February 20 – 22\, 2025
URL:https://www.optiknow.ca/event/vision-expo-east-2025/
LOCATION:Orlando County Convention Center in Orlando\, 9800 International Dr\, Orlando\, FL\, 32819\, United States
CATEGORIES:International Conference,Live Meeting
ATTACH;FMTTYPE=image/png:https://www.optiknow.ca/wp-content/uploads/2024/10/logo.png
ORGANIZER;CN="Vision Expo":MAILTO:inquiry@visionexpo.com
END:VEVENT
END:VCALENDAR