BEGIN:VCALENDAR
VERSION:2.0
PRODID:-//OptikNow - ECPv6.2.2//NONSGML v1.0//EN
CALSCALE:GREGORIAN
METHOD:PUBLISH
X-ORIGINAL-URL:https://www.optiknow.ca
X-WR-CALDESC:Events for OptikNow
REFRESH-INTERVAL;VALUE=DURATION:PT1H
X-Robots-Tag:noindex
X-PUBLISHED-TTL:PT1H
BEGIN:VTIMEZONE
TZID:America/Toronto
BEGIN:DAYLIGHT
TZOFFSETFROM:-0500
TZOFFSETTO:-0400
TZNAME:EDT
DTSTART:20250309T070000
END:DAYLIGHT
BEGIN:STANDARD
TZOFFSETFROM:-0400
TZOFFSETTO:-0500
TZNAME:EST
DTSTART:20251102T060000
END:STANDARD
BEGIN:DAYLIGHT
TZOFFSETFROM:-0500
TZOFFSETTO:-0400
TZNAME:EDT
DTSTART:20260308T070000
END:DAYLIGHT
BEGIN:STANDARD
TZOFFSETFROM:-0400
TZOFFSETTO:-0500
TZNAME:EST
DTSTART:20261101T060000
END:STANDARD
END:VTIMEZONE
BEGIN:VEVENT
DTSTART;TZID=America/Toronto:20251108T100000
DTEND;TZID=America/Toronto:20251108T120000
DTSTAMP:20260419T213659
CREATED:20250813T180649Z
LAST-MODIFIED:20250813T180649Z
UID:112985-1762596000-1762603200@www.optiknow.ca
SUMMARY:View Point Toronto: Speaker Symposium
DESCRIPTION:Fighting Blindness Canada presents VIEW POINT\, an educational conference bringing you the latest information in vision health and research! Hear from experts\, connect with others affected by vision loss and visit our exhibitors to learn about new resources.
URL:https://www.optiknow.ca/event/view-point-toronto-speaker-symposium/
LOCATION:North York Central Library Concourse Event Space\, 5120 Yonge St\, North York\, Ontario\, M2N 5N9\, Canada
CATEGORIES:Canada,Live Meeting
ATTACH;FMTTYPE=image/jpeg:https://www.optiknow.ca/wp-content/uploads/2025/08/download-14.jpg
END:VEVENT
BEGIN:VEVENT
DTSTART;VALUE=DATE:20251207
DTEND;VALUE=DATE:20251208
DTSTAMP:20260419T213659
CREATED:20251001T144210Z
LAST-MODIFIED:20251001T144210Z
UID:113769-1765065600-1765151999@www.optiknow.ca
SUMMARY:THE Myopia Meeting - Markham ON
DESCRIPTION:Two programs—one powerful day \nTHE Myopia Meeting returns to the Greater Toronto Area on Sunday\,\n7 December\, featuring the Mastering Myopia Training Program\, plus 3 hours of COPE-approved CE.
URL:https://www.optiknow.ca/event/the-myopia-meeting-markham-on/
LOCATION:Hilton Markham Suites Hotel and Conference Centre\, 8500 Warden Ave\, Markham\, Ontario\, L6G 1A5\, Canada
CATEGORIES:Canada,Live Meeting,Optometric
ATTACH;FMTTYPE=image/png:https://www.optiknow.ca/wp-content/uploads/2025/10/TMM-December-2025.png
END:VEVENT
BEGIN:VEVENT
DTSTART;VALUE=DATE:20260228
DTEND;VALUE=DATE:20260303
DTSTAMP:20260419T213659
CREATED:20260120T135917Z
LAST-MODIFIED:20260120T135917Z
UID:115530-1772236800-1772495999@www.optiknow.ca
SUMMARY:100% Optical
DESCRIPTION:100% Optical 2026 is the UK’s largest optical event\, taking place on 28 February – 2 March 2026 at Excel London. With 11\,000+ professionals and 250+ suppliers under one roof\, this is your unmissable opportunity to discover the latest in eyewear\, innovation and education.
URL:https://www.optiknow.ca/event/100-optical-2/
LOCATION:ExCel London\, 1 Western Gateway Royal Victoria Dock\, London\, United Kingdom
CATEGORIES:Live Meeting
ATTACH;FMTTYPE=image/jpeg:https://www.optiknow.ca/wp-content/uploads/2026/01/100-Optical-2026-logo-event-540x200px.jpg
END:VEVENT
BEGIN:VEVENT
DTSTART;VALUE=DATE:20260327
DTEND;VALUE=DATE:20260330
DTSTAMP:20260419T213659
CREATED:20260225T155617Z
LAST-MODIFIED:20260225T155617Z
UID:112970-1774569600-1774828799@www.optiknow.ca
SUMMARY:OAO SYMPOSIUM 2026
DESCRIPTION:Showcase your brand to Ontario’s optometry leaders and decision-makers while supporting education\, innovation\, and the future of eye health.
URL:https://www.optiknow.ca/event/oao-symposium-2026/
LOCATION:rogers centre\, Rogers Centre\, Ottawa\, Ontario\, Canada
CATEGORIES:Canada,conference,Live Meeting
ATTACH;FMTTYPE=image/webp:https://www.optiknow.ca/wp-content/uploads/2026/02/OAO-logo.webp
END:VEVENT
BEGIN:VEVENT
DTSTART;VALUE=DATE:20260503
DTEND;VALUE=DATE:20260508
DTSTAMP:20260419T213659
CREATED:20250813T173653Z
LAST-MODIFIED:20251014T074022Z
UID:112965-1777766400-1778198399@www.optiknow.ca
SUMMARY:ARVO 2026 Annual Meeting
DESCRIPTION:ARVO’s Global Community\nThe opportunity to learn from top eye and vision researchers from around the world\, and connect with the ARVO community.
URL:https://www.optiknow.ca/event/arvo-2026-annual-meeting/
LOCATION:700 14th St.\, Denver\, Colo.\, 80202\, 700 14th St\, Denver\, CO\, 80202\, United States
CATEGORIES:International Conference,Live Meeting
ATTACH;FMTTYPE=image/webp:https://www.optiknow.ca/wp-content/uploads/2025/08/AM2026-Theme.webp
END:VEVENT
END:VCALENDAR