BEGIN:VCALENDAR
VERSION:2.0
PRODID:-//OptikNow - ECPv6.2.2//NONSGML v1.0//EN
CALSCALE:GREGORIAN
METHOD:PUBLISH
X-WR-CALNAME:OptikNow
X-ORIGINAL-URL:https://www.optiknow.ca
X-WR-CALDESC:Events for OptikNow
REFRESH-INTERVAL;VALUE=DURATION:PT1H
X-Robots-Tag:noindex
X-PUBLISHED-TTL:PT1H
BEGIN:VTIMEZONE
TZID:America/Toronto
BEGIN:DAYLIGHT
TZOFFSETFROM:-0500
TZOFFSETTO:-0400
TZNAME:EDT
DTSTART:20190310T070000
END:DAYLIGHT
BEGIN:STANDARD
TZOFFSETFROM:-0400
TZOFFSETTO:-0500
TZNAME:EST
DTSTART:20191103T060000
END:STANDARD
BEGIN:DAYLIGHT
TZOFFSETFROM:-0500
TZOFFSETTO:-0400
TZNAME:EDT
DTSTART:20200308T070000
END:DAYLIGHT
BEGIN:STANDARD
TZOFFSETFROM:-0400
TZOFFSETTO:-0500
TZNAME:EST
DTSTART:20201101T060000
END:STANDARD
BEGIN:DAYLIGHT
TZOFFSETFROM:-0500
TZOFFSETTO:-0400
TZNAME:EDT
DTSTART:20210314T070000
END:DAYLIGHT
BEGIN:STANDARD
TZOFFSETFROM:-0400
TZOFFSETTO:-0500
TZNAME:EST
DTSTART:20211107T060000
END:STANDARD
BEGIN:DAYLIGHT
TZOFFSETFROM:-0500
TZOFFSETTO:-0400
TZNAME:EDT
DTSTART:20220313T070000
END:DAYLIGHT
BEGIN:STANDARD
TZOFFSETFROM:-0400
TZOFFSETTO:-0500
TZNAME:EST
DTSTART:20221106T060000
END:STANDARD
BEGIN:DAYLIGHT
TZOFFSETFROM:-0500
TZOFFSETTO:-0400
TZNAME:EDT
DTSTART:20230312T070000
END:DAYLIGHT
BEGIN:STANDARD
TZOFFSETFROM:-0400
TZOFFSETTO:-0500
TZNAME:EST
DTSTART:20231105T060000
END:STANDARD
BEGIN:DAYLIGHT
TZOFFSETFROM:-0500
TZOFFSETTO:-0400
TZNAME:EDT
DTSTART:20240310T070000
END:DAYLIGHT
BEGIN:STANDARD
TZOFFSETFROM:-0400
TZOFFSETTO:-0500
TZNAME:EST
DTSTART:20241103T060000
END:STANDARD
BEGIN:DAYLIGHT
TZOFFSETFROM:-0500
TZOFFSETTO:-0400
TZNAME:EDT
DTSTART:20250309T070000
END:DAYLIGHT
BEGIN:STANDARD
TZOFFSETFROM:-0400
TZOFFSETTO:-0500
TZNAME:EST
DTSTART:20251102T060000
END:STANDARD
END:VTIMEZONE
BEGIN:VEVENT
DTSTART;VALUE=DATE:20251107
DTEND;VALUE=DATE:20251110
DTSTAMP:20260420T083838
CREATED:20250926T192219Z
LAST-MODIFIED:20250926T194121Z
UID:113648-1762473600-1762732799@www.optiknow.ca
SUMMARY:Waterloo Eye Institute Annual Fall Conference & Trade Show
DESCRIPTION:The WEI annual fall conference and trade show consist of 20 COPE-accredited (pending) hours of live continuing education for optometrists and 6 hours live CE programming designed for optometric assistants\, ophthalmic technicians\, office managers and front desk staff.  \nEntrance to trade show (Saturday) included\nBobier and Woodruff Distinguished Award lectures\nBreakfast\, lunch and snacks  \nCheck in and breakfast starts on Friday AM @ 7AM.  \nEarly-Bird rates available until October 5th.\nRates vary by period.    \nVisit the event website for details and registration
URL:https://www.optiknow.ca/event/waterloo-eye-institute-annual-fall-conference-trade-show/
LOCATION:Hilton Markham Suites Hotel and Conference Centre\, 8500 Warden Ave\, Markham\, Ontario\, L6G 1A5\, Canada
CATEGORIES:Canada,conference,Live Meeting,Optometric,Optometric Assistants
ATTACH;FMTTYPE=image/png:https://www.optiknow.ca/wp-content/uploads/2025/09/WEI-2025-Fall-conference.png
END:VEVENT
BEGIN:VEVENT
DTSTART;TZID=America/Toronto:20220324T160000
DTEND;TZID=America/Toronto:20220324T220000
DTSTAMP:20260420T083838
CREATED:20220310T182446Z
LAST-MODIFIED:20220310T182446Z
UID:94838-1648137600-1648159200@www.optiknow.ca
SUMMARY:Next Season: The Eyewear Show
DESCRIPTION:Appointment only Buying Event:\nWhy go to boring shows to see new releases & new brands to Canada? \nCome play golf (indoors)  and hang out while checking out releases for next season.  Or just indulge in a tasty meal.
URL:https://www.optiknow.ca/event/next-season-the-eyewear-show/
LOCATION:Bayview Country Club\, 25 Fairway Heights\, Thornhill\, Ontario\, L3T 3X1\, Canada
CATEGORIES:Canada,Opticianry,Optometric,Optometric Assistants,Private Appointment
ATTACH;FMTTYPE=image/jpeg:https://www.optiknow.ca/wp-content/uploads/2022/03/next-season-the-eyewear-show.jpg
END:VEVENT
BEGIN:VEVENT
DTSTART;TZID=America/Toronto:20201114T170000
DTEND;TZID=America/Toronto:20201115T170000
DTSTAMP:20260420T083838
CREATED:20200113T164322Z
LAST-MODIFIED:20200803T184318Z
UID:84667-1605373200-1605459600@www.optiknow.ca
SUMMARY:Virtual Canadian Dry Eye Summit 2020
DESCRIPTION:CANADA’S PREMIERE DRY EYE MEETING\nTaking your dry eye practice to new heights \nLIVE VIRTUAL CONFERENCE NOV. 14-15\, 2020\n\nCONTENT AVAILABLE TO STREAM UNTIL JAN 31\, 2021
URL:https://www.optiknow.ca/event/canadian-dry-eye-summit-2020-toronto/
LOCATION:Ontario
CATEGORIES:Canada,Optometric,Optometric Assistants
ATTACH;FMTTYPE=image/jpeg:https://www.optiknow.ca/wp-content/uploads/2020/01/Dry_Eye_Summit-2020-event-Toronto.jpg
END:VEVENT
BEGIN:VEVENT
DTSTART;VALUE=DATE:20200523
DTEND;VALUE=DATE:20200525
DTSTAMP:20260420T083838
CREATED:20200113T163301Z
LAST-MODIFIED:20200323T211652Z
UID:84662-1590192000-1590364799@www.optiknow.ca
SUMMARY:Cancelled-Western Canadian Dry Eye Summit 2020
DESCRIPTION:The Summit features dry eye and ocular surface disease experts from across North America. \nHands-on workshops with live demonstrations\nInteractive trade show & Ocular hygienists/assistants track\n10 hours of COPE approved CE. (Speaker rooster and topics to be announced shortly)
URL:https://www.optiknow.ca/event/western-canadian-dry-eye-summit-2020/
LOCATION:River Rock Casino Resort\, 8811 River Road\, Richmond\, BC\, V6X 3P8
CATEGORIES:Canada,Optometric,Optometric Assistants
ATTACH;FMTTYPE=image/jpeg:https://www.optiknow.ca/wp-content/uploads/2020/01/Dry_Eye_Summit-2020-event-Toronto.jpg
END:VEVENT
BEGIN:VEVENT
DTSTART;VALUE=DATE:20191108
DTEND;VALUE=DATE:20191111
DTSTAMP:20260420T083838
CREATED:20190904T134800Z
LAST-MODIFIED:20190911T181409Z
UID:82889-1573171200-1573430399@www.optiknow.ca
SUMMARY:The Vision Institute of Canada Annual Fall Conference and Trade Show
DESCRIPTION:The Vision Institute of Canada is holding its 38th Annual Fall Conference and Trade Show on November 8-10\, 2019 at the Hilton Suites Hotel and Conference Centre in Markham\, Ontario. This year we have a 20 hour Category “A” TPA Refresher Course with guest faculty Nathan Lighthizer\, OD\, FAAO\, Blair Lonsberry\, MS\, OD\, MEd\, FAAO\, and Paul Karpecki\, OD\, FAAO. We invite you to register early and join us for our 38th Annual Fall Conference and Trade Show.\nOur long tradition of providing high quality educational programs continues this year and\, as a charitable organization\, the funds we raise from this event support our mandate of providing clinical services to underserved communities and at-risk patient populations.\nThe Vision Institute was established in 1981 with funding from the Ontario Association of Optometrists\, the College of Optometrists of Ontario and the University of Waterloo\, School of Optometry. For 38 years the clinical staff and board of directors of the Vision Institute have worked to promote quality comprehensive vision care to Canadians across the country. We are an independent voice for optometry-delivered quality vision care services and the only charitable optometry clinic in North America. Your support is vital and we encourage you to come to Markham in November for another superb educational event.\nAs always\, we will have one of the largest and best ophthalmic trade shows in Canada\, along with a Vision and Eye Health Book Store\, Silent Auction\, a 6 hour CAO Approved Optometric Assistants Program\, and a special Keynote Address on Vision and ADHD by Rick Green.\nWe look forward to seeing you in November.\nYours sincerely\, \nMira Acs\, OD\, FAAO \nPaul Chris\, OD\nPresident Executive Director \nClick HERE for the OPTOMETRIST Program and Registration Form. \nClick HERE for the OPTOMETRIC ASSISTANTS Program and Registration Form.
URL:https://www.optiknow.ca/event/the-vision-institute-of-canada-annual-fall-conference-and-trade-show/
LOCATION:Markham Hilton Suites and Conference Centre\, 8500 Warden Avenue\, Markham\, Ontario\, L6G 1A5\, Canada
CATEGORIES:Optometric,Optometric Assistants
ATTACH;FMTTYPE=image/jpeg:https://www.optiknow.ca/wp-content/uploads/2018/04/visioninstitutelogo_white-e1450890925284.jpg
END:VEVENT
END:VCALENDAR