BEGIN:VCALENDAR
VERSION:2.0
PRODID:-//OptikNow - ECPv6.2.2//NONSGML v1.0//EN
CALSCALE:GREGORIAN
METHOD:PUBLISH
X-ORIGINAL-URL:https://www.optiknow.ca
X-WR-CALDESC:Events for OptikNow
REFRESH-INTERVAL;VALUE=DURATION:PT1H
X-Robots-Tag:noindex
X-PUBLISHED-TTL:PT1H
BEGIN:VTIMEZONE
TZID:America/Toronto
BEGIN:DAYLIGHT
TZOFFSETFROM:-0500
TZOFFSETTO:-0400
TZNAME:EDT
DTSTART:20230312T070000
END:DAYLIGHT
BEGIN:STANDARD
TZOFFSETFROM:-0400
TZOFFSETTO:-0500
TZNAME:EST
DTSTART:20231105T060000
END:STANDARD
END:VTIMEZONE
BEGIN:VEVENT
DTSTART;VALUE=DATE:20230908
DTEND;VALUE=DATE:20230911
DTSTAMP:20260421T181657
CREATED:20200910T210926Z
LAST-MODIFIED:20200910T210926Z
UID:88079-1694131200-1694390399@www.optiknow.ca
SUMMARY:4th World Congress of Optometry
DESCRIPTION:the World Council of Optometry (WCO) has announced that the 4th World Congress of Optometry (WCO4) planned for Melbourne\, Australia in 2021\, will now be postponed to September 8-10\, 2023. The partnership with Optometry Victoria South Australia (OV/SA) and the Optical Distributors and Manufacturers Association of Australia (ODMA) will continue.
URL:https://www.optiknow.ca/event/4th-world-congress-of-optometry/
LOCATION:Ontario
CATEGORIES:Optometric,World Conferences
ATTACH;FMTTYPE=image/jpeg:https://www.optiknow.ca/wp-content/uploads/2019/10/WCO-Australia-OMEGA21.jpg
END:VEVENT
END:VCALENDAR