BEGIN:VCALENDAR
VERSION:2.0
PRODID:-//OptikNow - ECPv6.2.2//NONSGML v1.0//EN
CALSCALE:GREGORIAN
METHOD:PUBLISH
X-WR-CALNAME:OptikNow
X-ORIGINAL-URL:https://www.optiknow.ca
X-WR-CALDESC:Events for OptikNow
REFRESH-INTERVAL;VALUE=DURATION:PT1H
X-Robots-Tag:noindex
X-PUBLISHED-TTL:PT1H
BEGIN:VTIMEZONE
TZID:America/Toronto
BEGIN:DAYLIGHT
TZOFFSETFROM:-0500
TZOFFSETTO:-0400
TZNAME:EDT
DTSTART:20230312T070000
END:DAYLIGHT
BEGIN:STANDARD
TZOFFSETFROM:-0400
TZOFFSETTO:-0500
TZNAME:EST
DTSTART:20231105T060000
END:STANDARD
END:VTIMEZONE
BEGIN:VEVENT
DTSTART;TZID=America/Toronto:20230412T150000
DTEND;TZID=America/Toronto:20230412T161500
DTSTAMP:20260422T081037
CREATED:20230309T173414Z
LAST-MODIFIED:20230309T173414Z
UID:100026-1681311600-1681316100@www.optiknow.ca
SUMMARY:Innovative Glaucoma Treatments: MIGS and More
DESCRIPTION:Join FBC as we talk to Dr. Patrick Gooi about innovative treatments for glaucoma. One of the new and exciting prospects in the treatment of glaucoma is called MIGS\, or Minimally Invasive Glaucoma Surgeries. MIGS devices can be helpful in managing intraocular pressure in the early stages of glaucoma\, thereby reducing patients’ reliance on medication. In addition to MIGS\, we will discuss other innovative treatments being investigated.
URL:https://www.optiknow.ca/event/innovative-glaucoma-treatments-migs-and-more/
LOCATION:Virtual
CATEGORIES:Virtual Event
ATTACH;FMTTYPE=image/jpeg:https://www.optiknow.ca/wp-content/uploads/2023/03/FBC_Logo_Bilingual_RGB_SideStacked.jpg
END:VEVENT
BEGIN:VEVENT
DTSTART;TZID=America/Toronto:20230417T190000
DTEND;TZID=America/Toronto:20230417T203000
DTSTAMP:20260422T081037
CREATED:20230207T205957Z
LAST-MODIFIED:20230207T210112Z
UID:99623-1681758000-1681763400@www.optiknow.ca
SUMMARY:2023 HR 201 Virtual Series
DESCRIPTION:Diversity & Inclusion – April 17\, 7-8:30PM \nManaging Mental Health – May 1\, 7-8:30PM \nMotivation at Work – May 15\, 7-8:30PM \nRespect in the Workplace – May 29\, 7-8:30PM \nEffective Communication Techniques & Tips – June 12\, 7-8:30PM \n  \n\n**Please note that you must be an active AAO member to attend and that registration is limited. \nRegistration Opening Soon!
URL:https://www.optiknow.ca/event/2023-hr-201-virtual-series/
LOCATION:Virtual
CATEGORIES:Virtual Event
ATTACH;FMTTYPE=image/jpeg:https://www.optiknow.ca/wp-content/uploads/2023/02/aao-scaled.jpg
ORGANIZER;CN="Alberta Association of Optometrists":MAILTO:alberta.association@optometrists.ab.ca
END:VEVENT
END:VCALENDAR