BEGIN:VCALENDAR
VERSION:2.0
PRODID:-//OptikNow - ECPv6.2.2//NONSGML v1.0//EN
CALSCALE:GREGORIAN
METHOD:PUBLISH
X-ORIGINAL-URL:https://www.optiknow.ca
X-WR-CALDESC:Events for OptikNow
REFRESH-INTERVAL;VALUE=DURATION:PT1H
X-Robots-Tag:noindex
X-PUBLISHED-TTL:PT1H
BEGIN:VTIMEZONE
TZID:America/Toronto
BEGIN:DAYLIGHT
TZOFFSETFROM:-0500
TZOFFSETTO:-0400
TZNAME:EDT
DTSTART:20230312T070000
END:DAYLIGHT
BEGIN:STANDARD
TZOFFSETFROM:-0400
TZOFFSETTO:-0500
TZNAME:EST
DTSTART:20231105T060000
END:STANDARD
END:VTIMEZONE
BEGIN:VEVENT
DTSTART;TZID=America/Toronto:20230614T200000
DTEND;TZID=America/Toronto:20230614T210000
DTSTAMP:20260422T044849
CREATED:20230531T141932Z
LAST-MODIFIED:20230531T142602Z
UID:101060-1686772800-1686776400@www.optiknow.ca
SUMMARY:ZEISS MyoCare Webinar
DESCRIPTION:8:00 – 9:00 pm EST (5:00 – 6:00 pm PST) \nAn exclusive webinar where ZEISS will be unveiling an innovative new product that is set to revolutionize Myopia Management. During this webinar\, Dr. Jeff Goodhew will showcase the remarkable features and benefits of the new Myopia product. ECPs will get an in-depth understanding of how it can enhance patient’s daily life and deliver outstanding results.
URL:https://www.optiknow.ca/event/zeiss-myocare-webinar/
CATEGORIES:Canada,Virtual Event
ATTACH;FMTTYPE=image/jpeg:https://www.optiknow.ca/wp-content/uploads/2018/12/Zeiss-logo-1.jpg
END:VEVENT
BEGIN:VEVENT
DTSTART;TZID=America/Toronto:20230619T180000
DTEND;TZID=America/Toronto:20230619T200000
DTSTAMP:20260422T044849
CREATED:20230615T185017Z
LAST-MODIFIED:20230615T185017Z
UID:101272-1687197600-1687204800@www.optiknow.ca
SUMMARY:OAC CONNECT 2023 - JUNE WEBCAST
DESCRIPTION:Join us for our next highly informative webcast as we delve into the fascinating world of dry eye disease (DED). This 2-hour long engaging session will provide you with a comprehensive overview of the incidence and prevalence of DED\, along with essential learning objectives to enhance your understanding of this common ocular condition.
URL:https://www.optiknow.ca/event/oac-connect-2023-june-webcast/
LOCATION:Virtual
CATEGORIES:Virtual Event
ATTACH;FMTTYPE=image/jpeg:https://www.optiknow.ca/wp-content/uploads/2023/06/OACConnect_Banner_2022.jpg
END:VEVENT
END:VCALENDAR