BEGIN:VCALENDAR
VERSION:2.0
PRODID:-//OptikNow - ECPv6.2.2//NONSGML v1.0//EN
CALSCALE:GREGORIAN
METHOD:PUBLISH
X-ORIGINAL-URL:https://www.optiknow.ca
X-WR-CALDESC:Events for OptikNow
REFRESH-INTERVAL;VALUE=DURATION:PT1H
X-Robots-Tag:noindex
X-PUBLISHED-TTL:PT1H
BEGIN:VTIMEZONE
TZID:America/Toronto
BEGIN:DAYLIGHT
TZOFFSETFROM:-0500
TZOFFSETTO:-0400
TZNAME:EDT
DTSTART:20230312T070000
END:DAYLIGHT
BEGIN:STANDARD
TZOFFSETFROM:-0400
TZOFFSETTO:-0500
TZNAME:EST
DTSTART:20231105T060000
END:STANDARD
END:VTIMEZONE
BEGIN:VEVENT
DTSTART;TZID=America/Toronto:20231113T170000
DTEND;TZID=America/Toronto:20231113T190000
DTSTAMP:20260421T201445
CREATED:20231025T191528Z
LAST-MODIFIED:20231025T191713Z
UID:102891-1699894800-1699902000@www.optiknow.ca
SUMMARY:Transitions Certified Live
DESCRIPTION:Earn your Transitions Specialist certification during one virtual session. \nThis session is at 5pm PST.
URL:https://www.optiknow.ca/event/transitions-certified-live/
CATEGORIES:Canada,Virtual Event
ATTACH;FMTTYPE=image/jpeg:https://www.optiknow.ca/wp-content/uploads/2023/10/TransitionsCertifiedVirtual-event.jpg
END:VEVENT
BEGIN:VEVENT
DTSTART;TZID=America/Toronto:20231114T120000
DTEND;TZID=America/Toronto:20231114T130000
DTSTAMP:20260421T201445
CREATED:20231004T161741Z
LAST-MODIFIED:20231004T161741Z
UID:102636-1699963200-1699966800@www.optiknow.ca
SUMMARY:Diabetes & Your Eyes Information Webinar
DESCRIPTION:Have you been diagnosed with diabetes? Did you know diabetes is a leading cause of blindness in Canada? \nYou are invited to join this informative webinar lead by Dr. Alia Cappellani. You will learn how diabetes can affect your eye health\, what you can do to manage possible issues\, and how to maintain your eye health. You will have an opportunity to submit your questions during the presentation. Your sight is a gift that deserves protecting!
URL:https://www.optiknow.ca/event/diabetes-your-eyes-information-webinar/
LOCATION:Virtual
CATEGORIES:Virtual Event
ATTACH;FMTTYPE=image/jpeg:https://www.optiknow.ca/wp-content/uploads/2023/10/AAO_CMYK_NEWLogo-3.jpg
ORGANIZER;CN="Alberta Association of Optometrists":MAILTO:alberta.association@optometrists.ab.ca
END:VEVENT
BEGIN:VEVENT
DTSTART;TZID=America/Toronto:20231114T150000
DTEND;TZID=America/Toronto:20231114T160000
DTSTAMP:20260421T201445
CREATED:20231004T160933Z
LAST-MODIFIED:20231004T160933Z
UID:102634-1699974000-1699977600@www.optiknow.ca
SUMMARY:Learning about anti-VEGF Treatments for Eye Disease
DESCRIPTION:If you live with wet age-related macular degeneration or diabetes-related eye disease you may have been told by your eye doctor that you need to receive a medication called anti-VEGF. Anti-VEGF medicine helps to slow the growth of abnormal blood vessels in the eye\, which can slow or stop damage that causes vision loss. Join FBC and retinal specialist Dr. Bernie Hurley to learn more about this important group of medications\, how they work and why they are an important tool for helping to manage your eye condition.
URL:https://www.optiknow.ca/event/learning-about-anti-vegf-treatments-for-eye-disease/
LOCATION:Virtual
CATEGORIES:Virtual Event
ATTACH;FMTTYPE=image/jpeg:https://www.optiknow.ca/wp-content/uploads/2023/10/fbc-social.jpg
END:VEVENT
BEGIN:VEVENT
DTSTART;TZID=America/Toronto:20231114T180000
DTEND;TZID=America/Toronto:20231114T200000
DTSTAMP:20260421T201445
CREATED:20231025T191917Z
LAST-MODIFIED:20231025T191917Z
UID:102895-1699984800-1699992000@www.optiknow.ca
SUMMARY:Transitions Certified Live
DESCRIPTION:Earn your Transitions Specialist certification during one virtual session. \nThis session is at 6pm EST.
URL:https://www.optiknow.ca/event/transitions-certified-live-2/
CATEGORIES:Canada,Virtual Event
ATTACH;FMTTYPE=image/jpeg:https://www.optiknow.ca/wp-content/uploads/2023/10/TransitionsCertifiedVirtual-event.jpg
END:VEVENT
BEGIN:VEVENT
DTSTART;TZID=America/Toronto:20231121T190000
DTEND;TZID=America/Toronto:20231121T203000
DTSTAMP:20260421T201445
CREATED:20230823T191450Z
LAST-MODIFIED:20230823T191450Z
UID:102068-1700593200-1700598600@www.optiknow.ca
SUMMARY:Member Billing Webinar
DESCRIPTION:The AAO recognizes the importance of correct billing and that it can be a challenging learning curve for even the most experienced optometrist. This is an opportunity to learn about billing resources\, definitions\, what is and isn’t covered\, the most common billing errors\, and review the billing basics with examples.
URL:https://www.optiknow.ca/event/member-billing-webinar-2/
LOCATION:Virtual
CATEGORIES:Virtual Event
ATTACH;FMTTYPE=image/jpeg:https://www.optiknow.ca/wp-content/uploads/2023/08/AAO_CMYK_NEWLogo-1-scaled.jpg
ORGANIZER;CN="Alberta Association of Optometrists":MAILTO:alberta.association@optometrists.ab.ca
END:VEVENT
BEGIN:VEVENT
DTSTART;TZID=America/Toronto:20231128T180000
DTEND;TZID=America/Toronto:20231128T190000
DTSTAMP:20260421T201445
CREATED:20231102T155613Z
LAST-MODIFIED:20231102T155613Z
UID:102947-1701194400-1701198000@www.optiknow.ca
SUMMARY:(OAC) Annual General Meeting 2023
DESCRIPTION:The Opticians Association of Canada (OAC) Annual General Meeting will take place online on Tuesday\, November 28th\, 2023 from 06:00 PM to 07:00 PM Central Standard Time and will be presented in English. \nAll OAC members are encouraged to attend. The OAC AGM will not be eligible for CE credits.
URL:https://www.optiknow.ca/event/oac-annual-general-meeting-2023/
LOCATION:Virtual
CATEGORIES:Virtual Event
ATTACH;FMTTYPE=image/jpeg:https://www.optiknow.ca/wp-content/uploads/2023/11/AGM_Banner_600X188.jpg
END:VEVENT
END:VCALENDAR