BEGIN:VCALENDAR
VERSION:2.0
PRODID:-//OptikNow - ECPv6.2.2//NONSGML v1.0//EN
CALSCALE:GREGORIAN
METHOD:PUBLISH
X-ORIGINAL-URL:https://www.optiknow.ca
X-WR-CALDESC:Events for OptikNow
REFRESH-INTERVAL;VALUE=DURATION:PT1H
X-Robots-Tag:noindex
X-PUBLISHED-TTL:PT1H
BEGIN:VTIMEZONE
TZID:America/Toronto
BEGIN:DAYLIGHT
TZOFFSETFROM:-0500
TZOFFSETTO:-0400
TZNAME:EDT
DTSTART:20240310T070000
END:DAYLIGHT
BEGIN:STANDARD
TZOFFSETFROM:-0400
TZOFFSETTO:-0500
TZNAME:EST
DTSTART:20241103T060000
END:STANDARD
END:VTIMEZONE
BEGIN:VEVENT
DTSTART;TZID=America/Toronto:20240326T190000
DTEND;TZID=America/Toronto:20240326T200000
DTSTAMP:20260421T142259
CREATED:20240301T214343Z
LAST-MODIFIED:20240301T214343Z
UID:105473-1711479600-1711483200@www.optiknow.ca
SUMMARY:Fabry Disease Webinar 2024
DESCRIPTION:This disease awareness initiative for Fabry disease will  highlight the pivotal role Optometrists play in accelerating the diagnosis of patients with Fabry disease. The session seeks to encourage optometrists to take a proactive approach in identifying patients who may be at risk and referring them for further evaluation and treatment.
URL:https://www.optiknow.ca/event/fabry-disease-webinar-2024/
LOCATION:Virtual
CATEGORIES:Virtual Event
ATTACH;FMTTYPE=image/jpeg:https://www.optiknow.ca/wp-content/uploads/2024/03/alberta-association-of-optometrists.jpg
ORGANIZER;CN="Alberta Association of Optometrists":MAILTO:alberta.association@optometrists.ab.ca
END:VEVENT
END:VCALENDAR