BEGIN:VCALENDAR
VERSION:2.0
PRODID:-//OptikNow - ECPv6.2.2//NONSGML v1.0//EN
CALSCALE:GREGORIAN
METHOD:PUBLISH
X-ORIGINAL-URL:https://www.optiknow.ca
X-WR-CALDESC:Events for OptikNow
REFRESH-INTERVAL;VALUE=DURATION:PT1H
X-Robots-Tag:noindex
X-PUBLISHED-TTL:PT1H
BEGIN:VTIMEZONE
TZID:America/Toronto
BEGIN:DAYLIGHT
TZOFFSETFROM:-0500
TZOFFSETTO:-0400
TZNAME:EDT
DTSTART:20220313T070000
END:DAYLIGHT
BEGIN:STANDARD
TZOFFSETFROM:-0400
TZOFFSETTO:-0500
TZNAME:EST
DTSTART:20221106T060000
END:STANDARD
END:VTIMEZONE
BEGIN:VEVENT
DTSTART;TZID=America/Toronto:20221102T100000
DTEND;TZID=America/Toronto:20221102T153000
DTSTAMP:20260422T183115
CREATED:20221018T162613Z
LAST-MODIFIED:20221018T162613Z
UID:98102-1667383200-1667403000@www.optiknow.ca
SUMMARY:A Day of Education with Transitions Optical
DESCRIPTION:This virtual event will give attendees the opportunity to expand their knowledge with insights from industry experts on photochromics\, solutions for younger patients\, light management and the latest Transitions lens products –Transitions XTRActive Polarized and Transitions XTRActive new generation. \n 
URL:https://www.optiknow.ca/event/a-day-of-education-with-transitions-optical/
LOCATION:Virtual
CATEGORIES:Virtual Event
ATTACH;FMTTYPE=image/jpeg:https://www.optiknow.ca/wp-content/uploads/2022/10/DayofEducation_2022.jpg
END:VEVENT
END:VCALENDAR