BEGIN:VCALENDAR
VERSION:2.0
PRODID:-//OptikNow - ECPv6.2.2//NONSGML v1.0//EN
CALSCALE:GREGORIAN
METHOD:PUBLISH
X-ORIGINAL-URL:https://www.optiknow.ca
X-WR-CALDESC:Events for OptikNow
REFRESH-INTERVAL;VALUE=DURATION:PT1H
X-Robots-Tag:noindex
X-PUBLISHED-TTL:PT1H
BEGIN:VTIMEZONE
TZID:America/Toronto
BEGIN:DAYLIGHT
TZOFFSETFROM:-0500
TZOFFSETTO:-0400
TZNAME:EDT
DTSTART:20220313T070000
END:DAYLIGHT
BEGIN:STANDARD
TZOFFSETFROM:-0400
TZOFFSETTO:-0500
TZNAME:EST
DTSTART:20221106T060000
END:STANDARD
END:VTIMEZONE
BEGIN:VEVENT
DTSTART;TZID=America/Toronto:20221109T190000
DTEND;TZID=America/Toronto:20221109T210000
DTSTAMP:20260422T183211
CREATED:20221018T162003Z
LAST-MODIFIED:20221018T162003Z
UID:98088-1668020400-1668027600@www.optiknow.ca
SUMMARY:Identifying and Managing Keratoconus in Clinical Practice
DESCRIPTION:Are you ready to conquer keratoconus? This lecture focuses on the modern management of keratoconus\, early diagnosis\, how to stop progression and rehabilitate vision. We will cover everything from methods to detect keratoconus earlier\, an overview of corneal collagen cross-linking\, and contact lens and surgical treatment options. Recognizing the methods to manage keratoconus sooner will shift the treatment paradigm for patients to improve quality of life\, reduce the economic burden of the disease and avert vision loss. Join Melissa Barnett\, OD\, FAAO\, FSLS\, FBCLA and John D. Gelles\, O.D.\, F.I.A.O.\, F.C.L.S.A.\, F.S.L.S.\, F.B.C.L.A. explore identifying and managing Keratoconus.
URL:https://www.optiknow.ca/event/identifying-and-managing-keratoconus-in-clinical-practice/
LOCATION:Virtual
CATEGORIES:Virtual Event
ATTACH;FMTTYPE=image/jpeg:https://www.optiknow.ca/wp-content/uploads/2022/10/hi.jpg
END:VEVENT
END:VCALENDAR