BEGIN:VCALENDAR
VERSION:2.0
PRODID:-//OptikNow - ECPv6.2.2//NONSGML v1.0//EN
CALSCALE:GREGORIAN
METHOD:PUBLISH
X-WR-CALNAME:OptikNow
X-ORIGINAL-URL:https://www.optiknow.ca
X-WR-CALDESC:Events for OptikNow
REFRESH-INTERVAL;VALUE=DURATION:PT1H
X-Robots-Tag:noindex
X-PUBLISHED-TTL:PT1H
BEGIN:VTIMEZONE
TZID:America/Toronto
BEGIN:DAYLIGHT
TZOFFSETFROM:-0500
TZOFFSETTO:-0400
TZNAME:EDT
DTSTART:20220313T070000
END:DAYLIGHT
BEGIN:STANDARD
TZOFFSETFROM:-0400
TZOFFSETTO:-0500
TZNAME:EST
DTSTART:20221106T060000
END:STANDARD
END:VTIMEZONE
BEGIN:VEVENT
DTSTART;TZID=America/Toronto:20221114T190000
DTEND;TZID=America/Toronto:20221114T194500
DTSTAMP:20260422T182912
CREATED:20221018T165221Z
LAST-MODIFIED:20221018T165221Z
UID:98124-1668452400-1668455100@www.optiknow.ca
SUMMARY:Diabetes Webinar
DESCRIPTION:Have you been diagnosed with diabetes? Did you know diabetes is a leading cause of blindness in Canada? Join optometrist Dr. Monzer Al-Bekai and learn how diabetes can affect your eye health\, what you can do to manage possible issues\, and how to maintain your eye health. You will have an opportunity to submit your questions during the presentation. Register for this free virtual presentation today. Seeing is a gift that deserves protecting!
URL:https://www.optiknow.ca/event/diabetes-webinar/
LOCATION:Virtual
CATEGORIES:Virtual Event
ATTACH;FMTTYPE=image/jpeg:https://www.optiknow.ca/wp-content/uploads/2022/10/AAO_CMYK_NEWLogo-scaled.jpg
ORGANIZER;CN="Alberta Association of Optometrists":MAILTO:alberta.association@optometrists.ab.ca
END:VEVENT
END:VCALENDAR