BEGIN:VCALENDAR
VERSION:2.0
PRODID:-//OptikNow - ECPv6.2.2//NONSGML v1.0//EN
CALSCALE:GREGORIAN
METHOD:PUBLISH
X-WR-CALNAME:OptikNow
X-ORIGINAL-URL:https://www.optiknow.ca
X-WR-CALDESC:Events for OptikNow
REFRESH-INTERVAL;VALUE=DURATION:PT1H
X-Robots-Tag:noindex
X-PUBLISHED-TTL:PT1H
BEGIN:VTIMEZONE
TZID:America/Toronto
BEGIN:DAYLIGHT
TZOFFSETFROM:-0500
TZOFFSETTO:-0400
TZNAME:EDT
DTSTART:20220313T070000
END:DAYLIGHT
BEGIN:STANDARD
TZOFFSETFROM:-0400
TZOFFSETTO:-0500
TZNAME:EST
DTSTART:20221106T060000
END:STANDARD
END:VTIMEZONE
BEGIN:VEVENT
DTSTART;VALUE=DATE:20221118
DTEND;VALUE=DATE:20221121
DTSTAMP:20260422T182940
CREATED:20221018T154846Z
LAST-MODIFIED:20221018T154846Z
UID:98081-1668729600-1668988799@www.optiknow.ca
SUMMARY:Eyes On 2023
DESCRIPTION:If you’re looking to make next year your best year\, you won’t want to miss Eyes On 2023. At the last and largest virtual eyecare event of the year\, join us for 9 hours of free COPE-approved CE and CME from leading optometrists and ophthalmologists around the world. Choose from a vast catalog of expert-led topics and case studies moving the needle in eyecare today—and return to your practice with fresh insight about emerging trends in ophthalmic research\, new pharmaceutical developments\, and unique therapeutic applications that will elevate patient care in 2023.
URL:https://www.optiknow.ca/event/eyes-on-2023/
LOCATION:Virtual
CATEGORIES:Virtual Event
ATTACH;FMTTYPE=image/png:https://www.optiknow.ca/wp-content/uploads/2022/10/EO23_logo.max-800x600-1.png
END:VEVENT
END:VCALENDAR