BEGIN:VCALENDAR
VERSION:2.0
PRODID:-//OptikNow - ECPv6.2.2//NONSGML v1.0//EN
CALSCALE:GREGORIAN
METHOD:PUBLISH
X-ORIGINAL-URL:https://www.optiknow.ca
X-WR-CALDESC:Events for OptikNow
REFRESH-INTERVAL;VALUE=DURATION:PT1H
X-Robots-Tag:noindex
X-PUBLISHED-TTL:PT1H
BEGIN:VTIMEZONE
TZID:America/Toronto
BEGIN:DAYLIGHT
TZOFFSETFROM:-0500
TZOFFSETTO:-0400
TZNAME:EDT
DTSTART:20230312T070000
END:DAYLIGHT
BEGIN:STANDARD
TZOFFSETFROM:-0400
TZOFFSETTO:-0500
TZNAME:EST
DTSTART:20231105T060000
END:STANDARD
END:VTIMEZONE
BEGIN:VEVENT
DTSTART;TZID=America/Toronto:20230717T190000
DTEND;TZID=America/Toronto:20230717T210000
DTSTAMP:20260422T050829
CREATED:20230711T153849Z
LAST-MODIFIED:20230711T153849Z
UID:101577-1689620400-1689627600@www.optiknow.ca
SUMMARY:AAO Virtual Regional Meeting
DESCRIPTION:The AAO and ACO are providing a virtual Regional Meeting for those members who were unable to attend the in-person events. \nThey will be seeking your feedback on strategic plans\, to update you on the work that has taken place over the past year\, and to take a look at the emerging priorities like scope expansion and Alberta Health B650 and 900 codes. \nThis is a great opportunity to provide your thoughts and comments and to ask questions. Please ensure you register with your full name to receive CE credits from the College. The session is granted 4 category 1 credits. \nJoin us in supporting the profession as we move forward.
URL:https://www.optiknow.ca/event/aao-virtual-regional-meeting/
LOCATION:Virtual
CATEGORIES:Virtual Event
ATTACH;FMTTYPE=image/jpeg:https://www.optiknow.ca/wp-content/uploads/2023/07/AAO_CMYK_NEWLogo-scaled.jpg
ORGANIZER;CN="Alberta Association of Optometrists":MAILTO:alberta.association@optometrists.ab.ca
END:VEVENT
END:VCALENDAR