BEGIN:VCALENDAR
VERSION:2.0
PRODID:-//OptikNow - ECPv6.2.2//NONSGML v1.0//EN
CALSCALE:GREGORIAN
METHOD:PUBLISH
X-WR-CALNAME:OptikNow
X-ORIGINAL-URL:https://www.optiknow.ca
X-WR-CALDESC:Events for OptikNow
REFRESH-INTERVAL;VALUE=DURATION:PT1H
X-Robots-Tag:noindex
X-PUBLISHED-TTL:PT1H
BEGIN:VTIMEZONE
TZID:America/Toronto
BEGIN:DAYLIGHT
TZOFFSETFROM:-0500
TZOFFSETTO:-0400
TZNAME:EDT
DTSTART:20240310T070000
END:DAYLIGHT
BEGIN:STANDARD
TZOFFSETFROM:-0400
TZOFFSETTO:-0500
TZNAME:EST
DTSTART:20241103T060000
END:STANDARD
END:VTIMEZONE
BEGIN:VEVENT
DTSTART;TZID=America/Toronto:20240130T190000
DTEND;TZID=America/Toronto:20240130T203000
DTSTAMP:20260421T161212
CREATED:20240110T200710Z
LAST-MODIFIED:20240110T200710Z
UID:104352-1706641200-1706646600@www.optiknow.ca
SUMMARY:Member's Billing Webinar 2024
DESCRIPTION:The AAO recognizes the importance of correct billing and that it can be a challenging learning curve for even the most experienced optometrist. This is an opportunity to learn about billing resources\, definitions\, what is and isn’t covered\, the most common billing errors\, and review the billing basics with examples.
URL:https://www.optiknow.ca/event/members-billing-webinar-2024/
LOCATION:Virtual
CATEGORIES:Virtual Event
ATTACH;FMTTYPE=image/jpeg:https://www.optiknow.ca/wp-content/uploads/2024/01/AAO_CMYK_NEWLogo-4.jpg
ORGANIZER;CN="Alberta Association of Optometrists":MAILTO:alberta.association@optometrists.ab.ca
END:VEVENT
END:VCALENDAR