BEGIN:VCALENDAR
VERSION:2.0
PRODID:-//OptikNow - ECPv6.2.2//NONSGML v1.0//EN
CALSCALE:GREGORIAN
METHOD:PUBLISH
X-WR-CALNAME:OptikNow
X-ORIGINAL-URL:https://www.optiknow.ca
X-WR-CALDESC:Events for OptikNow
REFRESH-INTERVAL;VALUE=DURATION:PT1H
X-Robots-Tag:noindex
X-PUBLISHED-TTL:PT1H
BEGIN:VTIMEZONE
TZID:America/Toronto
BEGIN:DAYLIGHT
TZOFFSETFROM:-0500
TZOFFSETTO:-0400
TZNAME:EDT
DTSTART:20240310T070000
END:DAYLIGHT
BEGIN:STANDARD
TZOFFSETFROM:-0400
TZOFFSETTO:-0500
TZNAME:EST
DTSTART:20241103T060000
END:STANDARD
END:VTIMEZONE
BEGIN:VEVENT
DTSTART;TZID=America/Toronto:20240416T190000
DTEND;TZID=America/Toronto:20240416T200000
DTSTAMP:20260421T125826
CREATED:20240404T153126Z
LAST-MODIFIED:20240404T153126Z
UID:105975-1713294000-1713297600@www.optiknow.ca
SUMMARY:The Future of Optometry: It's not what it used to be 2024
DESCRIPTION:Artificial Intelligence (AI) is rapidly becoming a part of the healthcare landscape. This session will examine the opportunities and challenges faced in implementing AI solutions in optometry. \nIt will explore the impact of AI on current practices in eye care and look ahead to the likely impact AI will have in improving diagnostics\, personalizing treatments\, and improving practice management.
URL:https://www.optiknow.ca/event/the-future-of-optometry-its-not-what-it-used-to-be-2024/
LOCATION:Virtual
CATEGORIES:Canada,Virtual Event
ATTACH;FMTTYPE=image/jpeg:https://www.optiknow.ca/wp-content/uploads/2024/04/alberta-association-of-optometrists.jpg
ORGANIZER;CN="Alberta Association of Optometrists":MAILTO:alberta.association@optometrists.ab.ca
END:VEVENT
END:VCALENDAR