BEGIN:VCALENDAR
VERSION:2.0
PRODID:-//OptikNow - ECPv6.2.2//NONSGML v1.0//EN
CALSCALE:GREGORIAN
METHOD:PUBLISH
X-ORIGINAL-URL:https://www.optiknow.ca
X-WR-CALDESC:Events for OptikNow
REFRESH-INTERVAL;VALUE=DURATION:PT1H
X-Robots-Tag:noindex
X-PUBLISHED-TTL:PT1H
BEGIN:VTIMEZONE
TZID:America/Toronto
BEGIN:DAYLIGHT
TZOFFSETFROM:-0500
TZOFFSETTO:-0400
TZNAME:EDT
DTSTART:20240310T070000
END:DAYLIGHT
BEGIN:STANDARD
TZOFFSETFROM:-0400
TZOFFSETTO:-0500
TZNAME:EST
DTSTART:20241103T060000
END:STANDARD
END:VTIMEZONE
BEGIN:VEVENT
DTSTART;TZID=America/Toronto:20240618T180000
DTEND;TZID=America/Toronto:20240618T200000
DTSTAMP:20260421T112152
CREATED:20240614T130257Z
LAST-MODIFIED:20240614T130257Z
UID:106752-1718733600-1718740800@www.optiknow.ca
SUMMARY:OAC CONNECT JUNE 2024
DESCRIPTION:Join us for our June OAC Connect Webcast\, featuring two continuing education activity accredited across Canada. \nDecode & Connect Low and High Context Communication for Emotional Intelligence presented by Jade Bodzasy is an activity focusing on the different levels of communication we experience in everyday life. \nPrisms presented by Al Lens will cover different kinds of prisms and their use cases.
URL:https://www.optiknow.ca/event/oac-connect-june-2024/
LOCATION:Virtual
CATEGORIES:Canada,Virtual Event
ATTACH;FMTTYPE=image/jpeg:https://www.optiknow.ca/wp-content/uploads/2024/06/OACConnect_Banner_2022.jpg
END:VEVENT
END:VCALENDAR