BEGIN:VCALENDAR
VERSION:2.0
PRODID:-//OptikNow - ECPv6.2.2//NONSGML v1.0//EN
CALSCALE:GREGORIAN
METHOD:PUBLISH
X-WR-CALNAME:OptikNow
X-ORIGINAL-URL:https://www.optiknow.ca
X-WR-CALDESC:Events for OptikNow
REFRESH-INTERVAL;VALUE=DURATION:PT1H
X-Robots-Tag:noindex
X-PUBLISHED-TTL:PT1H
BEGIN:VTIMEZONE
TZID:America/Toronto
BEGIN:DAYLIGHT
TZOFFSETFROM:-0500
TZOFFSETTO:-0400
TZNAME:EDT
DTSTART:20240310T070000
END:DAYLIGHT
BEGIN:STANDARD
TZOFFSETFROM:-0400
TZOFFSETTO:-0500
TZNAME:EST
DTSTART:20241103T060000
END:STANDARD
END:VTIMEZONE
BEGIN:VEVENT
DTSTART;TZID=America/Toronto:20240620T160000
DTEND;TZID=America/Toronto:20240620T170000
DTSTAMP:20260421T093111
CREATED:20240529T150618Z
LAST-MODIFIED:20240529T150618Z
UID:106650-1718899200-1718902800@www.optiknow.ca
SUMMARY:Glaucoma in Research & Practice 2024
DESCRIPTION:Glaucoma is a group of eye diseases that cause vision loss by damaging the optic nerve. Join FBC and special guests to learn more about the leading cause of irreversible vision loss in Canada. \n\nHear from Dr. Tasneem P. Sharma\, PhD\, Assistant Professor of Ophthalmology at the Indiana University School of Medicine about her research into optic nerve regeneration.\nAsk the Expert! Ask your glaucoma questions to Dr. Delan Jinapriya\, glaucoma specialist and medical director of the Galen Eye Institute\, Queen’s University.
URL:https://www.optiknow.ca/event/glaucoma-in-research-practice-2024/
LOCATION:Virtual
CATEGORIES:Virtual Event
ATTACH;FMTTYPE=image/png:https://www.optiknow.ca/wp-content/uploads/2024/05/fighting-blindness-logo-2.png
END:VEVENT
END:VCALENDAR