BEGIN:VCALENDAR
VERSION:2.0
PRODID:-//OptikNow - ECPv6.2.2//NONSGML v1.0//EN
CALSCALE:GREGORIAN
METHOD:PUBLISH
X-ORIGINAL-URL:https://www.optiknow.ca
X-WR-CALDESC:Events for OptikNow
REFRESH-INTERVAL;VALUE=DURATION:PT1H
X-Robots-Tag:noindex
X-PUBLISHED-TTL:PT1H
BEGIN:VTIMEZONE
TZID:America/Toronto
BEGIN:DAYLIGHT
TZOFFSETFROM:-0500
TZOFFSETTO:-0400
TZNAME:EDT
DTSTART:20240310T070000
END:DAYLIGHT
BEGIN:STANDARD
TZOFFSETFROM:-0400
TZOFFSETTO:-0500
TZNAME:EST
DTSTART:20241103T060000
END:STANDARD
END:VTIMEZONE
BEGIN:VEVENT
DTSTART;TZID=America/Toronto:20240923T190000
DTEND;TZID=America/Toronto:20240923T200000
DTSTAMP:20260421T074534
CREATED:20240912T153747Z
LAST-MODIFIED:20240912T153747Z
UID:107968-1727118000-1727121600@www.optiknow.ca
SUMMARY:OAC CONNECT 2024 - September WEBCAST
DESCRIPTION:Join us for our September OAC Connect Webcast\, featuring one continuing education activity accredited across Canada. \nThe Importance of Case History to Improve Patient Outcomes presented by Rob Kloepfer covers the importance and benefits of looking back and learning from previous experiences.
URL:https://www.optiknow.ca/event/oac-connect-2024-september-webcast/
LOCATION:Virtual
CATEGORIES:Virtual Event
ATTACH;FMTTYPE=image/jpeg:https://www.optiknow.ca/wp-content/uploads/2024/09/OACConnect_Banner_2022.jpg
END:VEVENT
END:VCALENDAR