BEGIN:VCALENDAR
VERSION:2.0
PRODID:-//OptikNow - ECPv6.2.2//NONSGML v1.0//EN
CALSCALE:GREGORIAN
METHOD:PUBLISH
X-WR-CALNAME:OptikNow
X-ORIGINAL-URL:https://www.optiknow.ca
X-WR-CALDESC:Events for OptikNow
REFRESH-INTERVAL;VALUE=DURATION:PT1H
X-Robots-Tag:noindex
X-PUBLISHED-TTL:PT1H
BEGIN:VTIMEZONE
TZID:America/Toronto
BEGIN:DAYLIGHT
TZOFFSETFROM:-0500
TZOFFSETTO:-0400
TZNAME:EDT
DTSTART:20250309T070000
END:DAYLIGHT
BEGIN:STANDARD
TZOFFSETFROM:-0400
TZOFFSETTO:-0500
TZNAME:EST
DTSTART:20251102T060000
END:STANDARD
END:VTIMEZONE
BEGIN:VEVENT
DTSTART;TZID=America/Toronto:20250514T203000
DTEND;TZID=America/Toronto:20250514T213000
DTSTAMP:20260423T000140
CREATED:20250424T131938Z
LAST-MODIFIED:20250425T175846Z
UID:110761-1747254600-1747258200@www.optiknow.ca
SUMMARY:Leading Change: The Human Side of Practice Transformation
DESCRIPTION:Drs. Trevor Miranda and Anita Voisin\nSuccessfully implementing change in an optometric practice requires more than just new technology—it demands strong leadership\, team engagement\, and strategic execution. This course explores the psychology of change\, leadership strategies\, and practical challenges of practice transformation. Using a real-world case study on implementing a new Practice Management System (PMS)\, Dr. Trevor Miranda and Dr. Anita Voisin will provide actionable insights on overcoming resistance\, fostering staff buy-in\, and ensuring a smooth transition. Attendees will gain the tools to lead change with confidence and create a culture of adaptability in their practice. \n\n\n\n\n\n\nCOPE COURSE ID#  –  97236-PM    COPE ACTIVITY ID# 130530 \n\n\n\nThis course is made possible through an unrestricted educational grant from Ocuco Canada . Content is independent\, unbiased\, and designed solely for educational purposes. There are no sponsor requirements or influence on the material presented. \nPresented by Eye Care Business Canada and Clinical & Refractive Optometry.  \nClinical & Refractive Optometry – COPE Administrator.
URL:https://www.optiknow.ca/event/the-human-side-of-practice-transformation/
LOCATION:ZOOM Online\, Canada
CATEGORIES:Canada,Optometric,Virtual Event
ATTACH;FMTTYPE=image/png:https://www.optiknow.ca/wp-content/uploads/2025/03/EMPOWER-icon-300-x-250-px.png
ORGANIZER;CN="Clinical & Refractive Optometry (CRO)":MAILTO:info@crojournal.com
END:VEVENT
BEGIN:VEVENT
DTSTART;TZID=America/Toronto:20250910T150000
DTEND;TZID=America/Toronto:20250910T160000
DTSTAMP:20260423T000140
CREATED:20250813T175749Z
LAST-MODIFIED:20250813T175749Z
UID:112979-1757516400-1757520000@www.optiknow.ca
SUMMARY:Understanding the Bionic Eye and Retinal Prostheses
DESCRIPTION:Retinal prosthetics—often referred to as “bionic eyes”—are an exciting area of research aiming to restore vision for people affected by severe retinal diseases. In this patient-focused webinar\, we’ll explore what these devices are\, how they work\, and the potential they hold for people living with conditions like retinitis pigmentosa and age-related macular degeneration. \nOur expert speaker will provide an overview of current technologies\, the latest research and clinical trials\, and the real-world challenges of developing and using retinal implants. Whether you’re curious about the future of vision restoration or want to better understand emerging treatment options\, this session offers an engaging and hopeful look into a rapidly evolving field. \nIncludes time for live Q&A.
URL:https://www.optiknow.ca/event/understanding-the-bionic-eye-and-retinal-prostheses/
LOCATION:ZOOM Online\, Canada
CATEGORIES:Virtual Event
ATTACH;FMTTYPE=image/jpeg:https://www.optiknow.ca/wp-content/uploads/2025/08/download-14.jpg
END:VEVENT
BEGIN:VEVENT
DTSTART;TZID=America/Toronto:20251112T183000
DTEND;TZID=America/Toronto:20251112T203000
DTSTAMP:20260423T000140
CREATED:20250813T181009Z
LAST-MODIFIED:20250813T181009Z
UID:112987-1762972200-1762979400@www.optiknow.ca
SUMMARY:IRD Spotlight: Syndromic IRDs (Usher Syndrome & Bardet-Biedl Syndrome)
DESCRIPTION:Are you or a loved one navigating life with a Usher Syndrome or Bardet-Biedel Syndrome (BBS)? Join us for an informative webinar offering the latest insights into research\, treatments\, and lived experiences related to these conditions. \nWebinar: 6:30 – 7:45 p.m. EST\nCommunity Connect: 7:45 – 8:30 p.m. EST
URL:https://www.optiknow.ca/event/ird-spotlight-syndromic-irds-usher-syndrome-bardet-biedl-syndrome/
LOCATION:ZOOM Online\, Canada
CATEGORIES:Virtual Event
ATTACH;FMTTYPE=image/jpeg:https://www.optiknow.ca/wp-content/uploads/2025/08/download-14.jpg
END:VEVENT
BEGIN:VEVENT
DTSTART;TZID=America/Toronto:20251127T100000
DTEND;TZID=America/Toronto:20251127T120000
DTSTAMP:20260423T000140
CREATED:20250813T181247Z
LAST-MODIFIED:20250813T181247Z
UID:112989-1764237600-1764244800@www.optiknow.ca
SUMMARY:Dry Age-Related Macular Degeneration (AMD): In Research & Practice
DESCRIPTION:Are you or a loved one navigating life with dry AMD? Join us for an informative webinar offering the latest insights into research and emerging treatments. You will also have a chance to connect with others who understand the challenges of AMD and gain support from a community of people who truly care. There will be time for Q&A. \nWebinar: 10:00 a.m. — 11:15 a.m. EST\nCommunity Connect: 11:15 a.m. – 12:00 p.m. EST
URL:https://www.optiknow.ca/event/dry-age-related-macular-degeneration-amd-in-research-practice/
LOCATION:ZOOM Online\, Canada
CATEGORIES:Virtual Event
ATTACH;FMTTYPE=image/jpeg:https://www.optiknow.ca/wp-content/uploads/2025/08/download-14.jpg
END:VEVENT
END:VCALENDAR